BEGIN:VCALENDAR
VERSION:2.0
PRODID:-//Joint Base Anacostia-Bolling - ECPv6.15.20//NONSGML v1.0//EN
CALSCALE:GREGORIAN
METHOD:PUBLISH
X-ORIGINAL-URL:https://jbabfss.com
X-WR-CALDESC:Events for Joint Base Anacostia-Bolling
REFRESH-INTERVAL;VALUE=DURATION:PT1H
X-Robots-Tag:noindex
X-PUBLISHED-TTL:PT1H
BEGIN:VTIMEZONE
TZID:America/New_York
BEGIN:DAYLIGHT
TZOFFSETFROM:-0500
TZOFFSETTO:-0400
TZNAME:EDT
DTSTART:20240310T070000
END:DAYLIGHT
BEGIN:STANDARD
TZOFFSETFROM:-0400
TZOFFSETTO:-0500
TZNAME:EST
DTSTART:20241103T060000
END:STANDARD
BEGIN:DAYLIGHT
TZOFFSETFROM:-0500
TZOFFSETTO:-0400
TZNAME:EDT
DTSTART:20250309T070000
END:DAYLIGHT
BEGIN:STANDARD
TZOFFSETFROM:-0400
TZOFFSETTO:-0500
TZNAME:EST
DTSTART:20251102T060000
END:STANDARD
BEGIN:DAYLIGHT
TZOFFSETFROM:-0500
TZOFFSETTO:-0400
TZNAME:EDT
DTSTART:20260308T070000
END:DAYLIGHT
BEGIN:STANDARD
TZOFFSETFROM:-0400
TZOFFSETTO:-0500
TZNAME:EST
DTSTART:20261101T060000
END:STANDARD
END:VTIMEZONE
BEGIN:VEVENT
DTSTART;TZID=America/New_York:20250704T160000
DTEND;TZID=America/New_York:20250704T220000
DTSTAMP:20260423T195303
CREATED:20250616T171406Z
LAST-MODIFIED:20250616T171406Z
UID:10000018-1751644800-1751666400@jbabfss.com
SUMMARY:Joint Base Anacostia-Bolling Freedom Fest!
DESCRIPTION:Get ready\, JBAB! Freedom Fest 2025 is happening July 4th at Slip Inn! Kicking off at 5 PM. Get ready for Nerf Water Wars\, live music from The Moonlighters\, Hotdog and Watermelon Eating Contests\, and fireworks at 9 PM! Plus so much more! You won’t want to miss it!
URL:https://jbabfss.com/event/freedom-fest/
LOCATION:Slip Inn Waterfront Restaurant\, 2482 Arnold Ave\, washington\, DC\, 20032\, United States
ATTACH;FMTTYPE=image/png:https://jbabfss.com/wp-content/uploads/2025/06/2025-Freedom-Fest-16.png
END:VEVENT
BEGIN:VEVENT
DTSTART;TZID=America/New_York:20250627T100000
DTEND;TZID=America/New_York:20250627T120000
DTSTAMP:20260423T195303
CREATED:20250603T175304Z
LAST-MODIFIED:20250603T175304Z
UID:10000016-1751018400-1751025600@jbabfss.com
SUMMARY:MFRC Popsicles at the Park
DESCRIPTION:Celebrate summer with us! Enjoy fun games\, refreshing popsicles\, and great opportunities to connect with others!
URL:https://jbabfss.com/event/mfrc-popsicles-at-the-park/
LOCATION:Giesboro Park\, MacDill Blvd\, Washington\, District of Columbia\, 20032\, United States
ATTACH;FMTTYPE=image/png:https://jbabfss.com/wp-content/uploads/2025/06/MFRC-Popsicles-at-the-Park-Digital.png
END:VEVENT
BEGIN:VEVENT
DTSTART;TZID=America/New_York:20250627T090000
DTEND;TZID=America/New_York:20250627T120000
DTSTAMP:20260423T195303
CREATED:20250603T175543Z
LAST-MODIFIED:20250603T175543Z
UID:10000017-1751014800-1751025600@jbabfss.com
SUMMARY:Kickball Tournament
DESCRIPTION:Get ready for the 2025 Kickball Tournament! Whether you’re playing or cheering\, it’s going to be a blast! Still need to register your team? Head over to quickscores.com/jbab! We’re also looking for volunteers to help officiate – if you’re interested\, give us a call at 202-284-3034.
URL:https://jbabfss.com/event/kickball-tournament/
LOCATION:Giesboro Park\, MacDill Blvd\, Washington\, District of Columbia\, 20032\, United States
ATTACH;FMTTYPE=image/png:https://jbabfss.com/wp-content/uploads/2025/06/2025-Kickball-Tournament-Digital.png
END:VEVENT
BEGIN:VEVENT
DTSTART;TZID=America/New_York:20250621T080000
DTEND;TZID=America/New_York:20250621T190000
DTSTAMP:20260423T195303
CREATED:20250603T175001Z
LAST-MODIFIED:20250603T175001Z
UID:10000015-1750492800-1750532400@jbabfss.com
SUMMARY:ODR Fishing Trip
DESCRIPTION:Let’s Go Fishing! Join us at Capital Cove Marina on 21 June for a reel good time! 🐟 $75/person • Gear provided • Limited spots per time slot (8–11AM | 12–3PM | 4–7PM) Sign up now before they’re gone!
URL:https://jbabfss.com/event/odr-fishing-trip/
LOCATION:Outdoor Recreation\, Giovannoli St SW\, Washington\, District of Columbia\, 20032
ATTACH;FMTTYPE=image/png:https://jbabfss.com/wp-content/uploads/2025/06/ODR-Fishing-Trip-Digital-.png
END:VEVENT
BEGIN:VEVENT
DTSTART;TZID=America/New_York:20250620T110000
DTEND;TZID=America/New_York:20250620T150000
DTSTAMP:20260423T195303
CREATED:20250603T174648Z
LAST-MODIFIED:20250603T174648Z
UID:10000014-1750417200-1750431600@jbabfss.com
SUMMARY:Military Pass Day Bowling
DESCRIPTION:Roll into summer fun! Celebrate Military Pass Day with us at Potomac Lanes! Just $25 per lane (shoes included!) — bring your crew (limit 6) and let the good times roll!
URL:https://jbabfss.com/event/military-pass-day-bowling/
LOCATION:Potomac Lanes Bowling Center\, McChord St\, Bldg. 1310\, washington\, DC\, 20032\, United States
ATTACH;FMTTYPE=image/png:https://jbabfss.com/wp-content/uploads/2025/06/Militray-Pass-Day-Bowling-Digital.png
END:VEVENT
BEGIN:VEVENT
DTSTART;TZID=America/New_York:20250614T110000
DTEND;TZID=America/New_York:20250614T160000
DTSTAMP:20260423T195303
CREATED:20250603T174235Z
LAST-MODIFIED:20250603T174235Z
UID:10000012-1749898800-1749916800@jbabfss.com
SUMMARY:Father's Day Bowling
DESCRIPTION:Bring Dad out for some quality time on the lanes. Dad bowls Free with free shoe rental when accompanied by a child!
URL:https://jbabfss.com/event/fathers-day-bowling/
LOCATION:Potomac Lanes Bowling Center\, McChord St\, Bldg. 1310\, washington\, DC\, 20032\, United States
ATTACH;FMTTYPE=image/png:https://jbabfss.com/wp-content/uploads/2025/06/Family-Day-Bowling-Special-june-2024-4-Fathers-Day-Bowling-2025-1.png
END:VEVENT
BEGIN:VEVENT
DTSTART;TZID=America/New_York:20250614T090000
DTEND;TZID=America/New_York:20250614T120000
DTSTAMP:20260423T195303
CREATED:20250603T174436Z
LAST-MODIFIED:20250603T174436Z
UID:10000013-1749891600-1749902400@jbabfss.com
SUMMARY:Summer Jam 3v3 Basketball
DESCRIPTION:Get ready to bring the heat! 🔥 Summer Jam 3-on-3 Basketball is going down June 14 at 9AM! Grab your squad and register now at quickscores.com/jbab
URL:https://jbabfss.com/event/summer-jam-3v3-basketball/
LOCATION:Fitness Center 1\, 130 McChord St\, Washington\, District of Columbia\, 200032
ATTACH;FMTTYPE=image/png:https://jbabfss.com/wp-content/uploads/2025/06/Summer-Jam-Basketball-Digital.png
END:VEVENT
BEGIN:VEVENT
DTSTART;TZID=America/New_York:20250612T080000
DTEND;TZID=America/New_York:20250612T100000
DTSTAMP:20260423T195303
CREATED:20250603T173944Z
LAST-MODIFIED:20250603T173944Z
UID:10000011-1749715200-1749722400@jbabfss.com
SUMMARY:Dunkin for Dads
DESCRIPTION:Military and Family Readiness is Dunkin’ for Dad’s! Drive by for coffee and donuts to celebrate Father’s Day!
URL:https://jbabfss.com/event/dunkin-for-dads/
LOCATION:Military and Family Readiness\, 118 Brookley Ave SW Bldg 13\, Washington\, District of Columbia\, 220032\, United States
ATTACH;FMTTYPE=image/png:https://jbabfss.com/wp-content/uploads/2025/06/MFRC-Dunkin-for-Dads-Digital.png
END:VEVENT
BEGIN:VEVENT
DTSTART;TZID=America/New_York:20250607T100000
DTEND;TZID=America/New_York:20250607T120000
DTSTAMP:20260423T195303
CREATED:20250603T173747Z
LAST-MODIFIED:20250603T173747Z
UID:10000010-1749290400-1749297600@jbabfss.com
SUMMARY:Doubles Tennis Tournament
DESCRIPTION:Game\, Set\, Match!  \n\n\n\nGrab your partner and join us for the Doubles Tennis Tournament at the JBAB Tennis Courts — starting at 10AM. \n\n\n\nWhether you’re in it to win it or just swinging for fun\, it’s going to be a smashing good time!  \n\n\n\nSign up now to secure your spot: https://www.quickscores.com/jbab \n\n\n\nLet’s serve up some friendly competition and great vibes!
URL:https://jbabfss.com/event/doubles-tennis-tournament/
LOCATION:JBAB Tennis Courts\, Arnold Ave SW\, Washington\, District of Columbia\, 20032\, United States
ATTACH;FMTTYPE=image/png:https://jbabfss.com/wp-content/uploads/2025/06/2025-Tennis-Tournament-Digital.png
END:VEVENT
BEGIN:VEVENT
DTSTART;TZID=America/New_York:20250606T170000
DTEND;TZID=America/New_York:20250606T200000
DTSTAMP:20260423T195303
CREATED:20250603T173206Z
LAST-MODIFIED:20250603T173206Z
UID:10000009-1749229200-1749240000@jbabfss.com
SUMMARY:Slip Inn Deck Re-Opening!
DESCRIPTION:DECK YEAH! The good vibes are BACK at the Slip Inn!  Join us for an evening of epic fun\, finger-lickin’ smoked ribs\, and killer beats by DJ Chris! 🎶🍖 $24 Members | $28 Non-MembersBring your appetite\, your crew\, and your dancing shoes — it’s gonna be a vibe!
URL:https://jbabfss.com/event/slip-inn-deck-re-opening/
LOCATION:Slip Inn Waterfront Restaurant\, 2482 Arnold Ave\, washington\, DC\, 20032\, United States
ATTACH;FMTTYPE=image/png:https://jbabfss.com/wp-content/uploads/2025/06/Deck-Opening-Digital.png
END:VEVENT
BEGIN:VEVENT
DTSTART;TZID=America/New_York:20250523T173000
DTEND;TZID=America/New_York:20250523T200000
DTSTAMP:20260423T195303
CREATED:20250424T132556Z
LAST-MODIFIED:20250424T132556Z
UID:10000003-1748021400-1748030400@jbabfss.com
SUMMARY:Box Car Movie Night
DESCRIPTION:Come join us as we journey back to the Pride Lands with Mufasa: The Lion King! Build your own box car with our provided materials\, then sit back and enjoy the show
URL:https://jbabfss.com/event/box-car-movie-night/
LOCATION:Bolling Event Center\, 50 Theisen Street\, Washington\, DC\, 20032\, United States
ATTACH;FMTTYPE=image/png:https://jbabfss.com/wp-content/uploads/2025/04/Untitled-2.png
END:VEVENT
BEGIN:VEVENT
DTSTART;TZID=America/New_York:20250523T120000
DTEND;TZID=America/New_York:20250523T193000
DTSTAMP:20260423T195303
CREATED:20250424T163930Z
LAST-MODIFIED:20250424T163930Z
UID:10000006-1748001600-1748028600@jbabfss.com
SUMMARY:JBAB Pool Opening!
DESCRIPTION:JBAB Pool is opening for the season on May 23 starting at 12pm! We can’t wait to see you there!
URL:https://jbabfss.com/event/jbab-pool-opening/
LOCATION:JBAB Pool\, 100 McChord St\, Washington\, District of Columbia\, 20032\, United States
ATTACH;FMTTYPE=image/png:https://jbabfss.com/wp-content/uploads/2025/04/jbab-pool-open-4.png
END:VEVENT
BEGIN:VEVENT
DTSTART;TZID=America/New_York:20250523T110000
DTEND;TZID=America/New_York:20250523T150000
DTSTAMP:20260423T195303
CREATED:20250424T163730Z
LAST-MODIFIED:20250424T163730Z
UID:10000005-1747998000-1748012400@jbabfss.com
SUMMARY:Family Day Bowling Special
DESCRIPTION:2 hour lane rentalshoes\, 1 large 1 topping pizza\, and 1 pitcher of soda\, only $45!
URL:https://jbabfss.com/event/family-day-bowling-special/
LOCATION:Potomac Lanes Bowling Center\, McChord St\, Bldg. 1310\, washington\, DC\, 20032\, United States
ATTACH;FMTTYPE=image/png:https://jbabfss.com/wp-content/uploads/2025/04/Family-Day-Bowling-Special-june-2024-1-May-2025.png
END:VEVENT
BEGIN:VEVENT
DTSTART;TZID=America/New_York:20250520T063000
DTEND;TZID=America/New_York:20250520T130000
DTSTAMP:20260423T195303
CREATED:20250424T164651Z
LAST-MODIFIED:20250424T164651Z
UID:10000007-1747722600-1747746000@jbabfss.com
SUMMARY:2025 Sporty Sentinels Day
DESCRIPTION:A day filled with sports\, humvee push\, boot camp\, basketball and more!  \n\n\n\nRegister here: https://www.quickscores.com/jbab
URL:https://jbabfss.com/event/2025-sporty-sentinels-day/
LOCATION:Giesboro Park\, MacDill Blvd\, Washington\, District of Columbia\, 20032\, United States
ATTACH;FMTTYPE=image/png:https://jbabfss.com/wp-content/uploads/2025/04/JBAB-SPORTS-DAY-2023-FLYER-2-digital-2025.png
END:VEVENT
BEGIN:VEVENT
DTSTART;TZID=America/New_York:20250519T110000
DTEND;TZID=America/New_York:20250519T150000
DTSTAMP:20260423T195303
CREATED:20250424T132353Z
LAST-MODIFIED:20250424T132353Z
UID:10000002-1747652400-1747666800@jbabfss.com
SUMMARY:Kids Bowl Free
DESCRIPTION:19 May -21 Aug\, Monday-Thursday\, 11am-3pm. \n\n\n\n Register Online: kidsbowlfree.com
URL:https://jbabfss.com/event/kids-bowl-free/
LOCATION:Potomac Lanes Bowling Center\, McChord St\, Bldg. 1310\, washington\, DC\, 20032\, United States
ATTACH;FMTTYPE=image/png:https://jbabfss.com/wp-content/uploads/2025/04/Kids-Bowl-Free-1-2025.png
END:VEVENT
BEGIN:VEVENT
DTSTART;TZID=America/New_York:20250517T110000
DTEND;TZID=America/New_York:20250517T140000
DTSTAMP:20260423T195303
CREATED:20250424T131324Z
LAST-MODIFIED:20250424T131324Z
UID:10000001-1747479600-1747490400@jbabfss.com
SUMMARY:Kids Run
DESCRIPTION:Get ready to run\, play\, and have a blast at the Kid’s Run on May 17\, 11 AM–2 PM at the Outdoor Track! Games\, moon bounce\, popcorn – all FREE!  \n\n\n\nSign up HERE: https://www.signupgenius.com/go/10C054DA5AD29A4FEC34-56299283-armed#/
URL:https://jbabfss.com/event/kids-run/
LOCATION:Giesboro Park\, MacDill Blvd\, Washington\, District of Columbia\, 20032\, United States
ATTACH;FMTTYPE=image/png:https://jbabfss.com/wp-content/uploads/2025/04/Kids-Run-Youth-Center-1-2025-digital.png
END:VEVENT
BEGIN:VEVENT
DTSTART;TZID=America/New_York:20250515T110000
DTEND;TZID=America/New_York:20250515T130000
DTSTAMP:20260423T195303
CREATED:20250424T163445Z
LAST-MODIFIED:20250424T163445Z
UID:10000004-1747306800-1747314000@jbabfss.com
SUMMARY:A Moment For Mom's
DESCRIPTION:MFRC is celebrating the strength & dedication of Military Spouses this Mother’s Day! Bolling Club 11am-1pm! Giveaways\, Flower Arranging and more!  \n\n\n\nSign up here: https://jbabefmp.timetap.com/#/
URL:https://jbabfss.com/event/a-moment-for-moms/
LOCATION:Bolling Event Center\, 50 Theisen Street\, Washington\, DC\, 20032\, United States
ATTACH;FMTTYPE=image/png:https://jbabfss.com/wp-content/uploads/2025/04/A-Moment-for-Moms-Hair-Braiding-2-A-Moment-for-Moms.png
END:VEVENT
BEGIN:VEVENT
DTSTART;TZID=America/New_York:20250514T093000
DTEND;TZID=America/New_York:20250514T110000
DTSTAMP:20260423T195303
CREATED:20250424T165212Z
LAST-MODIFIED:20250424T165212Z
UID:10000008-1747215000-1747220400@jbabfss.com
SUMMARY:Tiny Tot Play Time
DESCRIPTION:Grow and Learn with JBAB EFMP at Tiny Tot Play Time at the Bolling Splash Pad!
URL:https://jbabfss.com/event/tiny-tot-play-time/
LOCATION:District of Columbia
ATTACH;FMTTYPE=image/png:https://jbabfss.com/wp-content/uploads/2025/04/Untitled-1-Tiny-Tot-Play-Time.png
END:VEVENT
END:VCALENDAR