BEGIN:VCALENDAR
VERSION:2.0
PRODID:-//Joint Base Anacostia-Bolling - ECPv6.15.20//NONSGML v1.0//EN
CALSCALE:GREGORIAN
METHOD:PUBLISH
X-ORIGINAL-URL:https://jbabfss.com
X-WR-CALDESC:Events for Joint Base Anacostia-Bolling
REFRESH-INTERVAL;VALUE=DURATION:PT1H
X-Robots-Tag:noindex
X-PUBLISHED-TTL:PT1H
BEGIN:VTIMEZONE
TZID:America/New_York
BEGIN:DAYLIGHT
TZOFFSETFROM:-0500
TZOFFSETTO:-0400
TZNAME:EDT
DTSTART:20250309T070000
END:DAYLIGHT
BEGIN:STANDARD
TZOFFSETFROM:-0400
TZOFFSETTO:-0500
TZNAME:EST
DTSTART:20251102T060000
END:STANDARD
BEGIN:DAYLIGHT
TZOFFSETFROM:-0500
TZOFFSETTO:-0400
TZNAME:EDT
DTSTART:20260308T070000
END:DAYLIGHT
BEGIN:STANDARD
TZOFFSETFROM:-0400
TZOFFSETTO:-0500
TZNAME:EST
DTSTART:20261101T060000
END:STANDARD
BEGIN:DAYLIGHT
TZOFFSETFROM:-0500
TZOFFSETTO:-0400
TZNAME:EDT
DTSTART:20270314T070000
END:DAYLIGHT
BEGIN:STANDARD
TZOFFSETFROM:-0400
TZOFFSETTO:-0500
TZNAME:EST
DTSTART:20271107T060000
END:STANDARD
END:VTIMEZONE
BEGIN:VEVENT
DTSTART;TZID=America/New_York:20260418T100000
DTEND;TZID=America/New_York:20260418T120000
DTSTAMP:20260423T164539
CREATED:20260331T143446Z
LAST-MODIFIED:20260331T143446Z
UID:10000075-1776506400-1776513600@jbabfss.com
SUMMARY:Singles Tennis Tournament
DESCRIPTION:Serve up some fun and meet new people at our Singles Tennis Tournament at Joint Base Anacostia–Bolling! \nOpen to all skill levels\, this friendly competition is a great way to stay active\, challenge yourself\, and enjoy some healthy rivalry on the court. Grab your racket\, bring your A-game\, and compete for bragging rights! Minimum of 4 players required for the tournament—register today to secure your spot at quickscores.com/jbab 
URL:https://jbabfss.com/event/singles-tennis-tournament/
LOCATION:JBAB Tennis Courts\, Arnold Ave SW\, Washington\, District of Columbia\, 20032\, United States
ATTACH;FMTTYPE=image/png:https://jbabfss.com/wp-content/uploads/2026/03/Fitness-2-Singles-Tennis-Tournament-Flyer.png
END:VEVENT
BEGIN:VEVENT
DTSTART;TZID=America/New_York:20260422T100000
DTEND;TZID=America/New_York:20260422T120000
DTSTAMP:20260423T164539
CREATED:20260331T144605Z
LAST-MODIFIED:20260331T144605Z
UID:10000080-1776852000-1776859200@jbabfss.com
SUMMARY:JBAB Library Earth Day Celebration
DESCRIPTION:Celebrate Earth Day with us at the JBAB Library during our 19th Annual Earth Day Celebration! Join us on April 22 from 10 AM–12 PM for a fun and educational event featuring flower planting\, birdhouse activities\, and more. It’s a great opportunity for families to connect with nature\, get creative\, and learn about caring for our environment.
URL:https://jbabfss.com/event/jbab-library-earth-day-celebration/
LOCATION:JBAB Library\, 410 Tinker Street\, Washington\, District of Columbia\, 20032\, United States
ATTACH;FMTTYPE=image/png:https://jbabfss.com/wp-content/uploads/2026/03/Library-1-FEB-2026-Digital.png
END:VEVENT
BEGIN:VEVENT
DTSTART;TZID=America/New_York:20260423T093000
DTEND;TZID=America/New_York:20260423T110000
DTSTAMP:20260423T164539
CREATED:20260331T150454Z
LAST-MODIFIED:20260331T150454Z
UID:10000086-1776936600-1776942000@jbabfss.com
SUMMARY:MFRC Tiny Tots
DESCRIPTION:Join us for Tiny Tot Play Time\, a fun and engaging experience designed for children ages 1–3 and their caregivers! Enjoy free play\, sensory activities\, music\, and helpful parenting tips in a welcoming environment. It’s the perfect opportunity for little ones to learn and explore while caregivers connect and build community.
URL:https://jbabfss.com/event/mfrc-tiny-tots-2/
LOCATION:Military and Family Readiness\, 118 Brookley Ave SW Bldg 13\, Washington\, District of Columbia\, 220032\, United States
ATTACH;FMTTYPE=image/png:https://jbabfss.com/wp-content/uploads/2026/03/2026-Tiny-Tots-3-Tiny-Tot-Play-Time.png
END:VEVENT
BEGIN:VEVENT
DTSTART;TZID=America/New_York:20260424T160000
DTEND;TZID=America/New_York:20260424T190000
DTSTAMP:20260423T164539
CREATED:20260331T144819Z
LAST-MODIFIED:20260331T144819Z
UID:10000081-1777046400-1777057200@jbabfss.com
SUMMARY:2026 SPRING FEST
DESCRIPTION:Celebrate the Month of the Military Child at our Spring Fest! Join us for an afternoon of family fun featuring a petting zoo\, bounce houses\, face painting\, glitter tattoos\, crafts\, a skate park\, and delicious food specials. Bring the whole family out for an exciting day of activities\, laughter\, and community connection!
URL:https://jbabfss.com/event/2026-spring-fest/
LOCATION:Slip Inn Waterfront Restaurant\, 2482 Arnold Ave\, washington\, DC\, 20032\, United States
ATTACH;FMTTYPE=image/png:https://jbabfss.com/wp-content/uploads/2026/03/Spring-fest.png
END:VEVENT
BEGIN:VEVENT
DTSTART;TZID=America/New_York:20260424T220000
DTEND;TZID=America/New_York:20260425T070000
DTSTAMP:20260423T164539
CREATED:20260331T145821Z
LAST-MODIFIED:20260331T145821Z
UID:10000084-1777068000-1777100400@jbabfss.com
SUMMARY:Operation Megaphone- JBAB Youth Center Lock-In
DESCRIPTION:Teens ages 13–18 are invited to join us for an exciting overnight Teen Lock-In at the JBAB Youth Center! Enjoy a night packed with interactive activities\, music\, games\, snacks\, and the chance to meet new friends. Drop off begins at 10 PM\, with pick-up at 7 AM—don’t miss this high-energy night of fun!
URL:https://jbabfss.com/event/operation-megaphone-jbab-youth-center-lock-in/
LOCATION:JBAB Youth Center\, Bldg 4485\, washington\, DC\, 20032\, United States
ATTACH;FMTTYPE=image/png:https://jbabfss.com/wp-content/uploads/2026/03/2026-Teen-Lock-In-2.png
END:VEVENT
BEGIN:VEVENT
DTSTART;TZID=America/New_York:20260502T100000
DTEND;TZID=America/New_York:20260502T190000
DTSTAMP:20260423T164539
CREATED:20260331T151423Z
LAST-MODIFIED:20260331T151423Z
UID:10000088-1777716000-1777748400@jbabfss.com
SUMMARY:ODR Fishing Trip
DESCRIPTION:Get hooked on adventure with our Let’s Go Fishing trip at Capital Cove Marina! Whether you’re a beginner or experienced angler\, enjoy a guided fishing experience with all gear provided. With limited spots and small group sizes\, it’s the perfect way to relax on the water and reel in a great time—sign up early to secure your spot!
URL:https://jbabfss.com/event/odr-fishing-trip-2/
LOCATION:Outdoor Recreation\, Giovannoli St SW\, Washington\, District of Columbia\, 20032
ATTACH;FMTTYPE=image/png:https://jbabfss.com/wp-content/uploads/2026/03/ODR-6-SEP-2026-Fishing-Trip-Digital.png
END:VEVENT
BEGIN:VEVENT
DTSTART;TZID=America/New_York:20260509T090000
DTEND;TZID=America/New_York:20260509T170000
DTSTAMP:20260423T164539
CREATED:20260331T151601Z
LAST-MODIFIED:20260331T151601Z
UID:10000089-1778317200-1778346000@jbabfss.com
SUMMARY:U.S Botanic Garden Photo Tour- Outdoor Recreation
DESCRIPTION:Capture the beauty of nature on our U.S. Botanic Garden Photo Tour! Enjoy a relaxing day exploring vibrant indoor and outdoor gardens while sharpening your photography skills—no need to worry about DC traffic or parking. With transportation provided and limited spots available\, it’s the perfect outing for nature lovers and photography enthusiasts alike.
URL:https://jbabfss.com/event/u-s-botanic-garden-photo-tour-outdoor-recreation/
LOCATION:Outdoor Recreation\, Giovannoli St SW\, Washington\, District of Columbia\, 20032
ATTACH;FMTTYPE=image/png:https://jbabfss.com/wp-content/uploads/2026/03/APR-ODR-Botanic-Gardens-Trip-Digital.png
END:VEVENT
END:VCALENDAR