BEGIN:VCALENDAR
VERSION:2.0
PRODID:-//Joint Base Anacostia-Bolling - ECPv6.15.20//NONSGML v1.0//EN
CALSCALE:GREGORIAN
METHOD:PUBLISH
X-ORIGINAL-URL:https://jbabfss.com
X-WR-CALDESC:Events for Joint Base Anacostia-Bolling
REFRESH-INTERVAL;VALUE=DURATION:PT1H
X-Robots-Tag:noindex
X-PUBLISHED-TTL:PT1H
BEGIN:VTIMEZONE
TZID:America/New_York
BEGIN:DAYLIGHT
TZOFFSETFROM:-0500
TZOFFSETTO:-0400
TZNAME:EDT
DTSTART:20240310T070000
END:DAYLIGHT
BEGIN:STANDARD
TZOFFSETFROM:-0400
TZOFFSETTO:-0500
TZNAME:EST
DTSTART:20241103T060000
END:STANDARD
BEGIN:DAYLIGHT
TZOFFSETFROM:-0500
TZOFFSETTO:-0400
TZNAME:EDT
DTSTART:20250309T070000
END:DAYLIGHT
BEGIN:STANDARD
TZOFFSETFROM:-0400
TZOFFSETTO:-0500
TZNAME:EST
DTSTART:20251102T060000
END:STANDARD
BEGIN:DAYLIGHT
TZOFFSETFROM:-0500
TZOFFSETTO:-0400
TZNAME:EDT
DTSTART:20260308T070000
END:DAYLIGHT
BEGIN:STANDARD
TZOFFSETFROM:-0400
TZOFFSETTO:-0500
TZNAME:EST
DTSTART:20261101T060000
END:STANDARD
BEGIN:DAYLIGHT
TZOFFSETFROM:-0500
TZOFFSETTO:-0400
TZNAME:EDT
DTSTART:20270314T070000
END:DAYLIGHT
BEGIN:STANDARD
TZOFFSETFROM:-0400
TZOFFSETTO:-0500
TZNAME:EST
DTSTART:20271107T060000
END:STANDARD
END:VTIMEZONE
BEGIN:VTIMEZONE
TZID:America/Detroit
BEGIN:DAYLIGHT
TZOFFSETFROM:-0500
TZOFFSETTO:-0400
TZNAME:EDT
DTSTART:20240310T070000
END:DAYLIGHT
BEGIN:STANDARD
TZOFFSETFROM:-0400
TZOFFSETTO:-0500
TZNAME:EST
DTSTART:20241103T060000
END:STANDARD
BEGIN:DAYLIGHT
TZOFFSETFROM:-0500
TZOFFSETTO:-0400
TZNAME:EDT
DTSTART:20250309T070000
END:DAYLIGHT
BEGIN:STANDARD
TZOFFSETFROM:-0400
TZOFFSETTO:-0500
TZNAME:EST
DTSTART:20251102T060000
END:STANDARD
BEGIN:DAYLIGHT
TZOFFSETFROM:-0500
TZOFFSETTO:-0400
TZNAME:EDT
DTSTART:20260308T070000
END:DAYLIGHT
BEGIN:STANDARD
TZOFFSETFROM:-0400
TZOFFSETTO:-0500
TZNAME:EST
DTSTART:20261101T060000
END:STANDARD
END:VTIMEZONE
BEGIN:VEVENT
DTSTART;TZID=America/New_York:20260302T090000
DTEND;TZID=America/New_York:20260302T150000
DTSTAMP:20260423T150930
CREATED:20260220T150118Z
LAST-MODIFIED:20260220T150118Z
UID:10000066-1772442000-1772463600@jbabfss.com
SUMMARY:Read Across America
DESCRIPTION:🎩📚 Oh\, the fun you will know! Join the JBAB Library as we celebrate Dr. Seuss’ 122nd birthday with a whimsical day of stories\, smiles\, and surprises! Kids of all ages can enjoy lively book readings and take home fun Seuss-themed goodies. Don’t miss this magical Read Across America celebration—because reading is an adventure! ✨📖
URL:https://jbabfss.com/event/read-across-america/
LOCATION:JBAB Library\, 410 Tinker Street\, Washington\, District of Columbia\, 20032\, United States
ATTACH;FMTTYPE=image/png:https://jbabfss.com/wp-content/uploads/2026/02/Library-6.png
END:VEVENT
BEGIN:VEVENT
DTSTART;TZID=America/New_York:20260221T103000
DTEND;TZID=America/New_York:20260221T133000
DTSTAMP:20260423T150930
CREATED:20260114T155142Z
LAST-MODIFIED:20260114T155142Z
UID:10000060-1771669800-1771680600@jbabfss.com
SUMMARY:2026 Racquetball Tournament
DESCRIPTION:Get ready to rally\, swing\, and smash your way to victory! \nJoin us for the 2026 Racquetball Tournament—a fast-paced showdown packed with competition\, energy\, and bragging rights! Whether you’re a seasoned player or just love the thrill of the game\, this tournament is your chance to step onto the court\, test your skills\, and have a blast. \nFebruary 21 | 10:30 AMFitness Center 1 \nThink you’ve got what it takes? Grab your racquet\, bring your A-game\, and don’t miss out—registration closes February 18! \n👉 Register now and let the games begin! quickscores.com/jbab or scan the QR code!
URL:https://jbabfss.com/event/2026-racquetball-tournament/
LOCATION:Fitness Center 1\, 130 McChord St\, Washington\, District of Columbia\, 200032
ATTACH;FMTTYPE=image/png:https://jbabfss.com/wp-content/uploads/2026/01/2026-Racquetball-Ball-Tournament-Digital.png
END:VEVENT
BEGIN:VEVENT
DTSTART;TZID=America/New_York:20260221T090000
DTEND;TZID=America/New_York:20260221T120000
DTSTAMP:20260423T150930
CREATED:20260213T135437Z
LAST-MODIFIED:20260213T135437Z
UID:10000065-1771664400-1771675200@jbabfss.com
SUMMARY:Aerobathon
DESCRIPTION:💪🎉 Get Ready to Sweat at Our AEROBATHON! 🎉💪 \nJoin us on February 21 for an energizing Aerobathon packed with movement\, music\, and motivation! Whether you’re looking to stretch\, strengthen\, or dance it out — we’ve got something for everyone! \n🧘‍♀️ Yoga – Find your balance & reset🏋️ Power Pump – Build strength & power💃 Zumba – Dance your way to a great workout \n🔥 Come for one class or stay for them all!🔥 All fitness levels welcome🔥 Bring your water\, towel\, and a friend! \nLet’s move together and make it a day full of fun\, fitness\, and feel-good vibes! 💙
URL:https://jbabfss.com/event/aerobathon/
LOCATION:Aerobics Center\, 38 Brookley Ave\, Washington\, District of Columbia\, 22315\, United States
ATTACH;FMTTYPE=image/png:https://jbabfss.com/wp-content/uploads/2026/02/Aerobathon.png
END:VEVENT
BEGIN:VEVENT
DTSTART;TZID=America/New_York:20260214T170000
DTEND;TZID=America/New_York:20260214T203000
DTSTAMP:20260423T150930
CREATED:20260113T142757Z
LAST-MODIFIED:20260113T142757Z
UID:10000059-1771088400-1771101000@jbabfss.com
SUMMARY:Valentine's Day Dinner & Dancing
DESCRIPTION:Come join us for the Valentine’s Day Dinner with great food and a night of dancing!\n\nWe will kick off the night at 5pm with a romantic dinner of tossed salad\, shrimp cocktail\, loaded mashed potatoes and an entree choice of: New York Strip\, Chicken Breast or Salmon! You will also be able to enjoy decadent cheesecake with strawberry topping for dessert followed by champagne!\n\n\nReservations are required no later than 7 Feb.\nClick here to RSVP https://www.memberplanet.com/s/bollingclubs/valentines2026
URL:https://jbabfss.com/event/valentines-day-dinner-dancing/
LOCATION:Bolling Event Center\, 50 Theisen Street\, Washington\, DC\, 20032\, United States
ATTACH;FMTTYPE=image/jpeg:https://jbabfss.com/wp-content/uploads/2026/01/Valentines-Day-Dinner-.jpeg
END:VEVENT
BEGIN:VEVENT
DTSTART;TZID=America/New_York:20260214T110000
DTEND;TZID=America/New_York:20260214T150000
DTSTAMP:20260423T150930
CREATED:20260113T141401Z
LAST-MODIFIED:20260113T141401Z
UID:10000056-1771066800-1771081200@jbabfss.com
SUMMARY:Valentine's Day Bowling
DESCRIPTION:Bring your sweetheart to Potomac Lanes for our Valentine’s Day bowling special! $50 per lane for 2 hours; includes shoe rental and a large 1 topping pizza!
URL:https://jbabfss.com/event/valentines-day-bowling/
LOCATION:Potomac Lanes Bowling Center\, McChord St\, Bldg. 1310\, washington\, DC\, 20032\, United States
ATTACH;FMTTYPE=image/png:https://jbabfss.com/wp-content/uploads/2026/01/Valentines-Bowling-Digital.png
END:VEVENT
BEGIN:VEVENT
DTSTART;TZID=America/New_York:20260213T110000
DTEND;TZID=America/New_York:20260213T153000
DTSTAMP:20260423T150930
CREATED:20260114T155829Z
LAST-MODIFIED:20260114T155829Z
UID:10000061-1770980400-1770996600@jbabfss.com
SUMMARY:Potomac Lanes President's Day Bowling Special
DESCRIPTION:Strike up some patriotic fun at Potomac Lanes! \nCelebrate Bowling President’s Day Special with friends\, family\, or coworkers and enjoy a great deal on classic bowling fun! Whether you’re aiming for strikes or just rolling for laughs\, this special is the perfect way to enjoy the holiday on the lanes. \nFebruary 13 | 11 AM – 3 PMPotomac Lanes \nSpecial Deal:Enjoy 1 hour of lane rental\, shoes\, and 1 large one-topping pizza for just $45!Limit 6 patrons per lane \nSpots fill up fast—grab your crew\, lace up those bowling shoes\, and let the good times roll!
URL:https://jbabfss.com/event/potomac-lanes-presidents-day-bowling-special/
LOCATION:Potomac Lanes
ATTACH;FMTTYPE=image/png:https://jbabfss.com/wp-content/uploads/2026/01/Potomac-Lanes-3-NOV-Digital.png
END:VEVENT
BEGIN:VEVENT
DTSTART;TZID=America/New_York:20260208T140000
DTEND;TZID=America/New_York:20260208T210000
DTSTAMP:20260423T150930
CREATED:20260113T141811Z
LAST-MODIFIED:20260114T155225Z
UID:10000057-1770559200-1770584400@jbabfss.com
SUMMARY:Big Game Watch Party
DESCRIPTION:Watch the Big Game at the Joint Innovation & Recreation Center! Trivia\, Food\, Prizes for best dressed super fan and more! \nOpen to all single and unaccompanied military; E1-E6
URL:https://jbabfss.com/event/big-game-watch-party/
LOCATION:Joint Recreation and Innovation Center\, 2770 Enterprise Way\, Bldg. 72\, Washington\, District of Columbia\, 20032\, United States
ATTACH;FMTTYPE=image/png:https://jbabfss.com/wp-content/uploads/2026/01/JRIC-Big-Game.png
END:VEVENT
BEGIN:VEVENT
DTSTART;TZID=America/New_York:20260206T180000
DTEND;TZID=America/New_York:20260206T200000
DTSTAMP:20260423T150930
CREATED:20260113T142003Z
LAST-MODIFIED:20260113T142003Z
UID:10000058-1770400800-1770408000@jbabfss.com
SUMMARY:Family Bingo Night
DESCRIPTION:Join us for a Valentine’s themed family night of bingo to build resilience and create connections! \nMust register by 4 Feb.
URL:https://jbabfss.com/event/family-bingo-night-2/
LOCATION:Military and Family Readiness\, 118 Brookley Ave SW Bldg 13\, Washington\, District of Columbia\, 220032\, United States
ATTACH;FMTTYPE=image/png:https://jbabfss.com/wp-content/uploads/2026/01/MFRC-Bingo.png
END:VEVENT
BEGIN:VEVENT
DTSTART;TZID=America/New_York:20260202T110000
DTEND;TZID=America/New_York:20260202T160000
DTSTAMP:20260423T150930
CREATED:20260126T182644Z
LAST-MODIFIED:20260126T182644Z
UID:10000063-1770030000-1770048000@jbabfss.com
SUMMARY:Potomac Lanes Bowling Center Grand Re-Opening!
DESCRIPTION:Strike up the fun at Potomac Lanes Bowling Center and join us for our Grand Re-Opening!\n\n\n\n February 2\, 2026 at 11 AM\n Ribbon cutting\n 1 FREE game of bowling until 1PM\n FREE shoe rentals until 4PM\n Raffle prizes\n Bowl a strike & win a free game voucher! *valid for another day\n\n\nGrab your friends and family and come celebrate with us—let’s roll!
URL:https://jbabfss.com/event/potomac-lanes-bowling-center-grand-re-opening/
LOCATION:Potomac Lanes Bowling Center\, McChord St\, Bldg. 1310\, washington\, DC\, 20032\, United States
ATTACH;FMTTYPE=image/png:https://jbabfss.com/wp-content/uploads/2026/01/Potomac-Lanes-9.png
END:VEVENT
BEGIN:VEVENT
DTSTART;TZID=America/New_York:20260202T100000
DTEND;TZID=America/New_York:20260212T143000
DTSTAMP:20260423T150930
CREATED:20260113T140952Z
LAST-MODIFIED:20260113T140952Z
UID:10000055-1770026400-1770906600@jbabfss.com
SUMMARY:Valentines for Wounded Warriors
DESCRIPTION:Please drop by the library to create a special memory for a local area wounded warrior for Valentine’s Day. Everyone is invited!
URL:https://jbabfss.com/event/valentines-for-wounded-warriors/
LOCATION:JBAB Library\, 410 Tinker Street\, Washington\, District of Columbia\, 20032\, United States
ATTACH;FMTTYPE=image/jpeg:https://jbabfss.com/wp-content/uploads/2026/01/Feb-Wounded-Warrior.jpg
END:VEVENT
BEGIN:VEVENT
DTSTART;TZID=America/New_York:20260123T180000
DTEND;TZID=America/New_York:20260123T220000
DTSTAMP:20260423T150930
CREATED:20260107T170801Z
LAST-MODIFIED:20260107T182115Z
UID:10000053-1769191200-1769205600@jbabfss.com
SUMMARY:Washington Wizards Hoops for Troops All-Star Challenge
DESCRIPTION:Join the Washington Wizards for a full day of fun at the JBAB Youth Center Gym! Youth Basketball Clinic\, Dance/Cheer Clinic and Varsity All-Star Challenge featuring G-Wiz\, Wizards Alumni\, DJ Heat and more! Please fill out this form in its entirety to RSVP for the Washington Wizards Hoops for Troops All-Star Challenge on Friday\, Jan 23 from 6-10pm. Space is limited! Click here to RSVP for the Washington Wizards Hoops for Troops All-Star Challenge event. \nKids\, ages 6-14\, affiliated with the base have the opportunity to participate in a youth skills clinic with the Washington Wizards Youth Basketball Staff from 6-7pm. A max number of 60 kids will be allowed to participate and will receive a Youth Basketball District of Play branded t-shirt. \nThe Washington Wizards Dance Team will host a dance and cheer clinic for up to 60 kids to participate from 7-7:45pm.  \nFrom 8:15-10pm\, members from the Joint Base Anacostia-Bolling and Joint Base Andrews recreational basketball leagues will compete in a series of skills challenges and game with appearances by Wizards alumni\, broadcasters and more.  \nTo RSVP for the Youth Skills & Dance clinic; click here.
URL:https://jbabfss.com/event/washington-wizards-hoops-for-troops-all-star-challenge/
LOCATION:JBAB Youth Center\, Bldg 4485\, washington\, DC\, 20032\, United States
ATTACH;FMTTYPE=image/png:https://jbabfss.com/wp-content/uploads/2026/01/WIZ-2526_1920x1080-Facebook.png
END:VEVENT
BEGIN:VEVENT
DTSTART;TZID=America/New_York:20260123T180000
DTEND;TZID=America/New_York:20260123T200000
DTSTAMP:20260423T150930
CREATED:20260114T160053Z
LAST-MODIFIED:20260114T160053Z
UID:10000062-1769191200-1769198400@jbabfss.com
SUMMARY:Youth Center Fashion & Art Show
DESCRIPTION:Calling all young creatives and trendsetters! \nThe JBAB Youth Center Fashion & Art Show is your chance to shine! Whether you love painting\, drawing\, sketching\, sewing\, or designing bold outfits\, this is the stage to show off your creativity and express your unique style. \nFrom colorful artwork to runway-ready fashion\, come celebrate imagination\, confidence\, and self-expression in a fun and supportive space. Friends\, family\, and fellow artists are all welcome to cheer you on! \nJanuary 23 | 6–8 PMOpen to pre-teens & teens\, ages 9–18 \nInterested in participating? Contact the Youth Center for rehearsal details at 202-284-3191. \nCreate it. Wear it. Share it. Don’t miss this night of art\, fashion\, and creativity!
URL:https://jbabfss.com/event/youth-center-fashion-art-show/
LOCATION:Youth Center\, Bldg 4485\, washington\, DC\, 20032\, United States
ATTACH;FMTTYPE=image/png:https://jbabfss.com/wp-content/uploads/2026/01/Youth-Center-8.png
END:VEVENT
BEGIN:VEVENT
DTSTART;VALUE=DATE:20260107
DTEND;VALUE=DATE:20260204
DTSTAMP:20260423T150930
CREATED:20260107T182018Z
LAST-MODIFIED:20260107T182018Z
UID:10000054-1767744000-1770163199@jbabfss.com
SUMMARY:JBAB Little League Baseball Registration
DESCRIPTION:Registration ends 3 February 2026 \n 
URL:https://jbabfss.com/event/jbab-little-league-baseball-registration/
LOCATION:JBAB Youth Center\, Bldg 4485\, washington\, DC\, 20032\, United States
ATTACH;FMTTYPE=image/png:https://jbabfss.com/wp-content/uploads/2026/01/Little-League-2.png
END:VEVENT
BEGIN:VEVENT
DTSTART;TZID=America/New_York:20251231T190000
DTEND;TZID=America/New_York:20260101T010000
DTSTAMP:20260423T150930
CREATED:20251215T140220Z
LAST-MODIFIED:20251215T140220Z
UID:10000051-1767207600-1767229200@jbabfss.com
SUMMARY:New Year's Eve Bash
DESCRIPTION:Celebrate the countdown in style! Enjoy a sparkling champagne toast\, delicious heavy hors d’oeuvres throughout the evening\, and a full breakfast served after midnight as we welcome the New Year together. \nAdmission:• Club Members: $75• Non-Members: $85 \nRegister here: https://www.signupgenius.com/go/10C054DA5AD29A4FEC34-61243055-newyears
URL:https://jbabfss.com/event/new-years-eve-bash/
LOCATION:Bolling Event Center\, 50 Theisen Street\, Washington\, DC\, 20032\, United States
END:VEVENT
BEGIN:VEVENT
DTSTART;TZID=America/Detroit:20251214T110000
DTEND;TZID=America/Detroit:20251214T130000
DTSTAMP:20260423T150930
CREATED:20251203T192301Z
LAST-MODIFIED:20251203T192301Z
UID:10000043-1765710000-1765717200@jbabfss.com
SUMMARY:Brunch with Santa
DESCRIPTION:Ho\, ho\, ho! Bring the whole family for a magical holiday brunch with Santa himself. Little ones can share their wish lists\, take photos with Santa\, and enjoy cheerful holiday activities perfect for all ages! \n🎅 Brunch with Santa — Featuring Mimosas!Enjoy a festive buffet including:• Turkey & Roast Beef Carving Station• Chef’s Seafood Selection• Seasonal Sides & Gravy• Assorted Salads• Dessert Display• Omelet & Waffle BarsKids’ Corner: Chicken nuggets\, mac & cheese & buttered corn \nReservations required by 11 December
URL:https://jbabfss.com/event/brunch-with-santa/
LOCATION:Bolling Event Center\, 50 Theisen Street\, Washington\, DC\, 20032\, United States
END:VEVENT
BEGIN:VEVENT
DTSTART;TZID=America/Detroit:20251206T160000
DTEND;TZID=America/Detroit:20251206T190000
DTSTAMP:20260423T150930
CREATED:20251203T172224Z
LAST-MODIFIED:20251203T172224Z
UID:10000042-1765036800-1765047600@jbabfss.com
SUMMARY:Winterfest & Holiday Market
DESCRIPTION:Join us for one of JBAB’s most magical evenings of the year!\nCelebrate the season with a cozy waterfront experience filled with twinkling lights\, festive music\, and holiday cheer for all ages.
URL:https://jbabfss.com/event/winterfest-holiday-market/
LOCATION:Slip Inn Waterfront Restaurant\, 2482 Arnold Ave\, washington\, DC\, 20032\, United States
END:VEVENT
BEGIN:VEVENT
DTSTART;TZID=America/Detroit:20251205T173000
DTEND;TZID=America/Detroit:20251205T183000
DTSTAMP:20260423T150930
CREATED:20251203T193140Z
LAST-MODIFIED:20251203T193140Z
UID:10000049-1764955800-1764959400@jbabfss.com
SUMMARY:Annual Tree Lighting
DESCRIPTION:Kick off the holiday season with the annual JBAB Tree Lighting at the Arnold Gate! Enjoy a festive evening filled with sparkling lights\, holiday music\, warm hot cocoa\, and joyful moments with the JBAB community. Come celebrate the magic of the season with us!
URL:https://jbabfss.com/event/annual-tree-lighting/
LOCATION:District of Columbia
END:VEVENT
BEGIN:VEVENT
DTSTART;TZID=America/Detroit:20251205T070000
DTEND;TZID=America/Detroit:20251205T080000
DTSTAMP:20260423T150930
CREATED:20251203T192610Z
LAST-MODIFIED:20251203T192610Z
UID:10000045-1764918000-1764921600@jbabfss.com
SUMMARY:Jingle Run 5K
DESCRIPTION:Kick off your holiday season with the Jingle Run 5K\, starting at the Aerobics Center! Lace up\, bundle up\, and bring your festive spirit—holiday costumes are encouraged\, and the Command Team will be selecting the best-dressed male and female.
URL:https://jbabfss.com/event/jingle-run-5k/
LOCATION:Aerobics Center\, 38 Brookley Ave\, Washington\, District of Columbia\, 22315\, United States
END:VEVENT
BEGIN:VEVENT
DTSTART;TZID=America/New_York:20250830T110000
DTEND;TZID=America/New_York:20250830T140000
DTSTAMP:20260423T150930
CREATED:20250722T144728Z
LAST-MODIFIED:20250722T144728Z
UID:10000040-1756551600-1756562400@jbabfss.com
SUMMARY:Singles Bowling Tournament
DESCRIPTION:Lace up your bowling shoes! Join us for a Singles Bowling Tournament on Saturday\, August 30th at 11 AM at Potomac Lanes. \n\n\n\n Register online at quickscores.com/jbab! (Min of 4 players per team needed for tournament.)
URL:https://jbabfss.com/event/singles-bowling-tournament/
LOCATION:Potomac Lanes
ATTACH;FMTTYPE=image/png:https://jbabfss.com/wp-content/uploads/2025/07/Singles-Bowling-Tournament-2.png
END:VEVENT
BEGIN:VEVENT
DTSTART;TZID=America/New_York:20250823T203000
DTEND;TZID=America/New_York:20250823T233000
DTSTAMP:20260423T150930
CREATED:20250722T143918Z
LAST-MODIFIED:20250722T143918Z
UID:10000039-1755981000-1755991800@jbabfss.com
SUMMARY:Cosmic Bowling
DESCRIPTION:Get ready for out-of-this-world fun! Join Potomac Lanes for Cosmic Bowling on Saturday\, August 23rd from 8:30 – 11:30 PM!  \n\n\n\nIt’s just $17 for military and $20 for civilians. Don’t miss this glowing good time!
URL:https://jbabfss.com/event/cosmic-bowling-2/
LOCATION:Potomac Lanes Bowling Center\, McChord St\, Bldg. 1310\, washington\, DC\, 20032\, United States
ATTACH;FMTTYPE=image/png:https://jbabfss.com/wp-content/uploads/2025/07/Cosmic-Bowling-12-Video.png
END:VEVENT
BEGIN:VEVENT
DTSTART;TZID=America/New_York:20250823T130000
DTEND;TZID=America/New_York:20250823T160000
DTSTAMP:20260423T150930
CREATED:20250722T143625Z
LAST-MODIFIED:20250722T143625Z
UID:10000038-1755954000-1755964800@jbabfss.com
SUMMARY:EFMP Adaptive Field Day
DESCRIPTION:Join JBAB and Pentagon EFMP for Adaptive Field Day on August 23rd from 1-4 PM at Giesboro Park! Enjoy adaptive activities\, resources\, info booths\, and family fun for all DoD card holders. Parents\, remember to bring extra clothing for water sports! Register online by scanning the QR code or contacting linda.clark.8@us.af.mil. See you there!
URL:https://jbabfss.com/event/efmp-adaptive-field-day/
LOCATION:Giesboro Park\, MacDill Blvd\, Washington\, District of Columbia\, 20032\, United States
ATTACH;FMTTYPE=image/png:https://jbabfss.com/wp-content/uploads/2025/07/Adaptive-Field-Day-4-Digital.png
END:VEVENT
BEGIN:VEVENT
DTSTART;TZID=America/New_York:20250822T160000
DTEND;TZID=America/New_York:20250822T190000
DTSTAMP:20260423T150930
CREATED:20250722T143333Z
LAST-MODIFIED:20250722T143333Z
UID:10000037-1755878400-1755889200@jbabfss.com
SUMMARY:Crab and Shrimp Fest
DESCRIPTION:Get ready for the JBAB Crab & Shrimp Fest ’25! Enjoy all-you-can-eat steamed crab & shrimp with all the fixings\, plus music by DJ Chris! \n\n\n\n🗓️ August 22nd 📍 Slip Inn ⏰ 4-7 PM \n\n\n\nTickets available now at the Slip Inn!  \n\n\n\nClub members/ODR Storage Patrons: $70 | Non-members: $80. Don’t miss out!
URL:https://jbabfss.com/event/crab-and-shrimp-fest/
LOCATION:Slip Inn Waterfront Restaurant\, 2482 Arnold Ave\, washington\, DC\, 20032\, United States
ATTACH;FMTTYPE=image/png:https://jbabfss.com/wp-content/uploads/2025/07/Crab-Fest-1.png
END:VEVENT
BEGIN:VEVENT
DTSTART;TZID=America/New_York:20250815T180000
DTEND;TZID=America/New_York:20250815T200000
DTSTAMP:20260423T150930
CREATED:20250722T142923Z
LAST-MODIFIED:20250722T142923Z
UID:10000036-1755280800-1755288000@jbabfss.com
SUMMARY:Family Bingo Night
DESCRIPTION:Get ready for a night of fun and prizes! Join MFRC for FREE Family Bingo Night! \n\n\n\nMark your calendars for August 15th from 6-8 PM at the MFRC\, Bldg 13. Bring the whole family for a chance to win and make some great memories! Remember to register by August 13th! You can scan the QR code on the flyer to register or visit the MFRC.
URL:https://jbabfss.com/event/family-bingo-night/
LOCATION:Military and Family Readiness\, 118 Brookley Ave SW Bldg 13\, Washington\, District of Columbia\, 220032\, United States
ATTACH;FMTTYPE=image/png:https://jbabfss.com/wp-content/uploads/2025/07/FAMILY-BINGO-2-digital.png
END:VEVENT
BEGIN:VEVENT
DTSTART;TZID=America/New_York:20250809T110000
DTEND;TZID=America/New_York:20250809T150000
DTSTAMP:20260423T150930
CREATED:20250722T142745Z
LAST-MODIFIED:20250722T142745Z
UID:10000035-1754737200-1754751600@jbabfss.com
SUMMARY:National Bowling Day
DESCRIPTION:Get ready to roll!  Celebrate National Bowling Day with us at Potomac Lanes! \n\n\n\nJoin the fun on August 9th from 11 AM – 3 PM for $5 games and FREE shoe rental! It’s the perfect way to spend your Saturday\, whether you’re a seasoned bowler or just looking for some casual fun with friends and family. \n\n\n\nMark your calendars and we’ll see you there!
URL:https://jbabfss.com/event/national-bowling-day/
LOCATION:Potomac Lanes Bowling Center\, McChord St\, Bldg. 1310\, washington\, DC\, 20032\, United States
ATTACH;FMTTYPE=image/png:https://jbabfss.com/wp-content/uploads/2025/07/National-Bowling-Day-3-DIGITAL.png
END:VEVENT
BEGIN:VEVENT
DTSTART;TZID=America/New_York:20250809T100000
DTEND;TZID=America/New_York:20250809T130000
DTSTAMP:20260423T150930
CREATED:20250722T142314Z
LAST-MODIFIED:20250722T142314Z
UID:10000034-1754733600-1754744400@jbabfss.com
SUMMARY:Racquetball Tournament
DESCRIPTION:Serve up some fun!  Get ready for the 2025 Racquetball Tournament at JBAB! \n\n\n\nJoin us on Saturday\, August 9th at 10 AM at JBAB Fitness Center 1. Whether you’re a seasoned pro or looking for some friendly competition\, this is your chance to show off your skills! \n\n\n\nRegister now by scanning the QR code on the flyer or visiting quickscores.com/jbab.
URL:https://jbabfss.com/event/racquetball-tournament/
LOCATION:Fitness Center 1\, 130 McChord St\, Washington\, District of Columbia\, 200032
ATTACH;FMTTYPE=image/png:https://jbabfss.com/wp-content/uploads/2025/07/2025-Racquetball-Tournament-2.png
END:VEVENT
BEGIN:VEVENT
DTSTART;TZID=America/New_York:20250808T170000
DTEND;TZID=America/New_York:20250808T190000
DTSTAMP:20260423T150930
CREATED:20250722T141604Z
LAST-MODIFIED:20250722T141604Z
UID:10000033-1754672400-1754679600@jbabfss.com
SUMMARY:August Sounds of Summer
DESCRIPTION:Get ready for another amazing Sounds of Summer evening! Join us on August 8th at 5 PM at the Slip Inn on Joint Base Anacostia-Bolling for a live acoustic performance by Drew Stevyns! \n\n\n\nEnjoy great music\, good company\, and FREE ADMISSION! It’s the perfect way to spend a summer evening. Don’t miss out!
URL:https://jbabfss.com/event/august-sounds-of-summer/
LOCATION:Slip Inn Waterfront Restaurant\, 2482 Arnold Ave\, washington\, DC\, 20032\, United States
ATTACH;FMTTYPE=image/png:https://jbabfss.com/wp-content/uploads/2025/07/Sounds-of-Summer-2024-1-2025-Digital.png
END:VEVENT
BEGIN:VEVENT
DTSTART;TZID=America/New_York:20250807T180000
DTEND;TZID=America/New_York:20250807T193000
DTSTAMP:20260423T150930
CREATED:20250722T141107Z
LAST-MODIFIED:20250722T141107Z
UID:10000032-1754589600-1754595000@jbabfss.com
SUMMARY:Back To School Info Night
DESCRIPTION:Back to School Info Night! Join us on 7 August from 6–7:30 PM at the Bolling Event Center for an evening full of helpful info as you prepare for the new school year!-Learn about school bus routes\, DC school lottery\, school choice\, and more.-Get your questions answered by the JBAB School Liaison Program Manager.
URL:https://jbabfss.com/event/back-to-school-info-night/
LOCATION:Bolling Event Center\, 50 Theisen Street\, Washington\, DC\, 20032\, United States
ATTACH;FMTTYPE=image/png:https://jbabfss.com/wp-content/uploads/2025/07/Back-to-School-1-2025.png
END:VEVENT
BEGIN:VEVENT
DTSTART;TZID=America/New_York:20250804T080000
DTEND;TZID=America/New_York:20250804T170000
DTSTAMP:20260423T150930
CREATED:20250722T140926Z
LAST-MODIFIED:20250722T140926Z
UID:10000031-1754294400-1754326800@jbabfss.com
SUMMARY:STEM Camp
DESCRIPTION:STEM Camp at the Youth Center! Get ready for a week of hands-on fun exploring science\, technology\, engineering\, and math!August 4–8 • $60Only 12 spots available – secure your child’s spot today at parent.afcyp.com!📞 Questions? Call 202.284.3193
URL:https://jbabfss.com/event/stem-camp/
LOCATION:Youth Center\, Bldg 4485\, washington\, DC\, 20032\, United States
ATTACH;FMTTYPE=image/png:https://jbabfss.com/wp-content/uploads/2025/07/STEM-Camp-2-2025-Digital-.png
END:VEVENT
BEGIN:VEVENT
DTSTART;TZID=America/New_York:20250801T163000
DTEND;TZID=America/New_York:20250801T183000
DTSTAMP:20260423T150930
CREATED:20250722T140649Z
LAST-MODIFIED:20250722T140649Z
UID:10000030-1754065800-1754073000@jbabfss.com
SUMMARY:Smoked Rib Special
DESCRIPTION:Smoked Ribs Night at the Slip Inn! Join us on 1 August from 4:30–6:30 PM for mouthwatering smoked ribs served with baked beans\, corn on the cob\, grilled garlic bread\, and your choice of coleslaw or potato salad. Live DJ on site!$24 Members | $28 Non-Members – Don’t forget to bring your bib!
URL:https://jbabfss.com/event/smoked-rib-special/
LOCATION:Slip Inn Waterfront Restaurant\, 2482 Arnold Ave\, washington\, DC\, 20032\, United States
ATTACH;FMTTYPE=image/png:https://jbabfss.com/wp-content/uploads/2025/07/Rib-Special-2024-6.png
END:VEVENT
BEGIN:VEVENT
DTSTART;TZID=America/New_York:20250726T203000
DTEND;TZID=America/New_York:20250726T233000
DTSTAMP:20260423T150930
CREATED:20250627T180157Z
LAST-MODIFIED:20250627T180157Z
UID:10000028-1753561800-1753572600@jbabfss.com
SUMMARY:Cosmic Bowling
DESCRIPTION:Glow big or go home!  \n\n\n\nJoin us for Cosmic Bowling at Potomac Lanes on Saturday\, July 26th! Get 3 hours of bowling\, including shoes\, from 8:30-11:30 PM. Don’t miss the fun!
URL:https://jbabfss.com/event/cosmic-bowling/
LOCATION:Potomac Lanes Bowling Center\, McChord St\, Bldg. 1310\, washington\, DC\, 20032\, United States
ATTACH;FMTTYPE=image/jpeg:https://jbabfss.com/wp-content/uploads/2025/06/Cosmic-Bowling-2-Digital.jpeg
END:VEVENT
END:VCALENDAR