BEGIN:VCALENDAR
VERSION:2.0
PRODID:-//Joint Base Anacostia-Bolling - ECPv6.15.20//NONSGML v1.0//EN
CALSCALE:GREGORIAN
METHOD:PUBLISH
X-WR-CALNAME:Joint Base Anacostia-Bolling
X-ORIGINAL-URL:https://jbabfss.com
X-WR-CALDESC:Events for Joint Base Anacostia-Bolling
REFRESH-INTERVAL;VALUE=DURATION:PT1H
X-Robots-Tag:noindex
X-PUBLISHED-TTL:PT1H
BEGIN:VTIMEZONE
TZID:America/New_York
BEGIN:DAYLIGHT
TZOFFSETFROM:-0500
TZOFFSETTO:-0400
TZNAME:EDT
DTSTART:20240310T070000
END:DAYLIGHT
BEGIN:STANDARD
TZOFFSETFROM:-0400
TZOFFSETTO:-0500
TZNAME:EST
DTSTART:20241103T060000
END:STANDARD
BEGIN:DAYLIGHT
TZOFFSETFROM:-0500
TZOFFSETTO:-0400
TZNAME:EDT
DTSTART:20250309T070000
END:DAYLIGHT
BEGIN:STANDARD
TZOFFSETFROM:-0400
TZOFFSETTO:-0500
TZNAME:EST
DTSTART:20251102T060000
END:STANDARD
BEGIN:DAYLIGHT
TZOFFSETFROM:-0500
TZOFFSETTO:-0400
TZNAME:EDT
DTSTART:20260308T070000
END:DAYLIGHT
BEGIN:STANDARD
TZOFFSETFROM:-0400
TZOFFSETTO:-0500
TZNAME:EST
DTSTART:20261101T060000
END:STANDARD
BEGIN:DAYLIGHT
TZOFFSETFROM:-0500
TZOFFSETTO:-0400
TZNAME:EDT
DTSTART:20270314T070000
END:DAYLIGHT
BEGIN:STANDARD
TZOFFSETFROM:-0400
TZOFFSETTO:-0500
TZNAME:EST
DTSTART:20271107T060000
END:STANDARD
END:VTIMEZONE
BEGIN:VEVENT
DTSTART;TZID=America/New_York:20251231T190000
DTEND;TZID=America/New_York:20260101T010000
DTSTAMP:20260423T150527
CREATED:20251215T140220Z
LAST-MODIFIED:20251215T140220Z
UID:10000051-1767207600-1767229200@jbabfss.com
SUMMARY:New Year's Eve Bash
DESCRIPTION:Celebrate the countdown in style! Enjoy a sparkling champagne toast\, delicious heavy hors d’oeuvres throughout the evening\, and a full breakfast served after midnight as we welcome the New Year together. \nAdmission:• Club Members: $75• Non-Members: $85 \nRegister here: https://www.signupgenius.com/go/10C054DA5AD29A4FEC34-61243055-newyears
URL:https://jbabfss.com/event/new-years-eve-bash/
LOCATION:Bolling Event Center\, 50 Theisen Street\, Washington\, DC\, 20032\, United States
END:VEVENT
BEGIN:VEVENT
DTSTART;VALUE=DATE:20260107
DTEND;VALUE=DATE:20260204
DTSTAMP:20260423T150527
CREATED:20260107T182018Z
LAST-MODIFIED:20260107T182018Z
UID:10000054-1767744000-1770163199@jbabfss.com
SUMMARY:JBAB Little League Baseball Registration
DESCRIPTION:Registration ends 3 February 2026 \n 
URL:https://jbabfss.com/event/jbab-little-league-baseball-registration/
LOCATION:JBAB Youth Center\, Bldg 4485\, washington\, DC\, 20032\, United States
ATTACH;FMTTYPE=image/png:https://jbabfss.com/wp-content/uploads/2026/01/Little-League-2.png
END:VEVENT
BEGIN:VEVENT
DTSTART;TZID=America/New_York:20260123T180000
DTEND;TZID=America/New_York:20260123T200000
DTSTAMP:20260423T150527
CREATED:20260114T160053Z
LAST-MODIFIED:20260114T160053Z
UID:10000062-1769191200-1769198400@jbabfss.com
SUMMARY:Youth Center Fashion & Art Show
DESCRIPTION:Calling all young creatives and trendsetters! \nThe JBAB Youth Center Fashion & Art Show is your chance to shine! Whether you love painting\, drawing\, sketching\, sewing\, or designing bold outfits\, this is the stage to show off your creativity and express your unique style. \nFrom colorful artwork to runway-ready fashion\, come celebrate imagination\, confidence\, and self-expression in a fun and supportive space. Friends\, family\, and fellow artists are all welcome to cheer you on! \nJanuary 23 | 6–8 PMOpen to pre-teens & teens\, ages 9–18 \nInterested in participating? Contact the Youth Center for rehearsal details at 202-284-3191. \nCreate it. Wear it. Share it. Don’t miss this night of art\, fashion\, and creativity!
URL:https://jbabfss.com/event/youth-center-fashion-art-show/
LOCATION:Youth Center\, Bldg 4485\, washington\, DC\, 20032\, United States
ATTACH;FMTTYPE=image/png:https://jbabfss.com/wp-content/uploads/2026/01/Youth-Center-8.png
END:VEVENT
BEGIN:VEVENT
DTSTART;TZID=America/New_York:20260123T180000
DTEND;TZID=America/New_York:20260123T220000
DTSTAMP:20260423T150527
CREATED:20260107T170801Z
LAST-MODIFIED:20260107T182115Z
UID:10000053-1769191200-1769205600@jbabfss.com
SUMMARY:Washington Wizards Hoops for Troops All-Star Challenge
DESCRIPTION:Join the Washington Wizards for a full day of fun at the JBAB Youth Center Gym! Youth Basketball Clinic\, Dance/Cheer Clinic and Varsity All-Star Challenge featuring G-Wiz\, Wizards Alumni\, DJ Heat and more! Please fill out this form in its entirety to RSVP for the Washington Wizards Hoops for Troops All-Star Challenge on Friday\, Jan 23 from 6-10pm. Space is limited! Click here to RSVP for the Washington Wizards Hoops for Troops All-Star Challenge event. \nKids\, ages 6-14\, affiliated with the base have the opportunity to participate in a youth skills clinic with the Washington Wizards Youth Basketball Staff from 6-7pm. A max number of 60 kids will be allowed to participate and will receive a Youth Basketball District of Play branded t-shirt. \nThe Washington Wizards Dance Team will host a dance and cheer clinic for up to 60 kids to participate from 7-7:45pm.  \nFrom 8:15-10pm\, members from the Joint Base Anacostia-Bolling and Joint Base Andrews recreational basketball leagues will compete in a series of skills challenges and game with appearances by Wizards alumni\, broadcasters and more.  \nTo RSVP for the Youth Skills & Dance clinic; click here.
URL:https://jbabfss.com/event/washington-wizards-hoops-for-troops-all-star-challenge/
LOCATION:JBAB Youth Center\, Bldg 4485\, washington\, DC\, 20032\, United States
ATTACH;FMTTYPE=image/png:https://jbabfss.com/wp-content/uploads/2026/01/WIZ-2526_1920x1080-Facebook.png
END:VEVENT
BEGIN:VEVENT
DTSTART;TZID=America/New_York:20260202T100000
DTEND;TZID=America/New_York:20260212T143000
DTSTAMP:20260423T150527
CREATED:20260113T140952Z
LAST-MODIFIED:20260113T140952Z
UID:10000055-1770026400-1770906600@jbabfss.com
SUMMARY:Valentines for Wounded Warriors
DESCRIPTION:Please drop by the library to create a special memory for a local area wounded warrior for Valentine’s Day. Everyone is invited!
URL:https://jbabfss.com/event/valentines-for-wounded-warriors/
LOCATION:JBAB Library\, 410 Tinker Street\, Washington\, District of Columbia\, 20032\, United States
ATTACH;FMTTYPE=image/jpeg:https://jbabfss.com/wp-content/uploads/2026/01/Feb-Wounded-Warrior.jpg
END:VEVENT
BEGIN:VEVENT
DTSTART;TZID=America/New_York:20260202T110000
DTEND;TZID=America/New_York:20260202T160000
DTSTAMP:20260423T150527
CREATED:20260126T182644Z
LAST-MODIFIED:20260126T182644Z
UID:10000063-1770030000-1770048000@jbabfss.com
SUMMARY:Potomac Lanes Bowling Center Grand Re-Opening!
DESCRIPTION:Strike up the fun at Potomac Lanes Bowling Center and join us for our Grand Re-Opening!\n\n\n\n February 2\, 2026 at 11 AM\n Ribbon cutting\n 1 FREE game of bowling until 1PM\n FREE shoe rentals until 4PM\n Raffle prizes\n Bowl a strike & win a free game voucher! *valid for another day\n\n\nGrab your friends and family and come celebrate with us—let’s roll!
URL:https://jbabfss.com/event/potomac-lanes-bowling-center-grand-re-opening/
LOCATION:Potomac Lanes Bowling Center\, McChord St\, Bldg. 1310\, washington\, DC\, 20032\, United States
ATTACH;FMTTYPE=image/png:https://jbabfss.com/wp-content/uploads/2026/01/Potomac-Lanes-9.png
END:VEVENT
BEGIN:VEVENT
DTSTART;TZID=America/New_York:20260206T180000
DTEND;TZID=America/New_York:20260206T200000
DTSTAMP:20260423T150527
CREATED:20260113T142003Z
LAST-MODIFIED:20260113T142003Z
UID:10000058-1770400800-1770408000@jbabfss.com
SUMMARY:Family Bingo Night
DESCRIPTION:Join us for a Valentine’s themed family night of bingo to build resilience and create connections! \nMust register by 4 Feb.
URL:https://jbabfss.com/event/family-bingo-night-2/
LOCATION:Military and Family Readiness\, 118 Brookley Ave SW Bldg 13\, Washington\, District of Columbia\, 220032\, United States
ATTACH;FMTTYPE=image/png:https://jbabfss.com/wp-content/uploads/2026/01/MFRC-Bingo.png
END:VEVENT
BEGIN:VEVENT
DTSTART;TZID=America/New_York:20260208T140000
DTEND;TZID=America/New_York:20260208T210000
DTSTAMP:20260423T150527
CREATED:20260113T141811Z
LAST-MODIFIED:20260114T155225Z
UID:10000057-1770559200-1770584400@jbabfss.com
SUMMARY:Big Game Watch Party
DESCRIPTION:Watch the Big Game at the Joint Innovation & Recreation Center! Trivia\, Food\, Prizes for best dressed super fan and more! \nOpen to all single and unaccompanied military; E1-E6
URL:https://jbabfss.com/event/big-game-watch-party/
LOCATION:Joint Recreation and Innovation Center\, 2770 Enterprise Way\, Bldg. 72\, Washington\, District of Columbia\, 20032\, United States
ATTACH;FMTTYPE=image/png:https://jbabfss.com/wp-content/uploads/2026/01/JRIC-Big-Game.png
END:VEVENT
BEGIN:VEVENT
DTSTART;TZID=America/New_York:20260213T110000
DTEND;TZID=America/New_York:20260213T153000
DTSTAMP:20260423T150527
CREATED:20260114T155829Z
LAST-MODIFIED:20260114T155829Z
UID:10000061-1770980400-1770996600@jbabfss.com
SUMMARY:Potomac Lanes President's Day Bowling Special
DESCRIPTION:Strike up some patriotic fun at Potomac Lanes! \nCelebrate Bowling President’s Day Special with friends\, family\, or coworkers and enjoy a great deal on classic bowling fun! Whether you’re aiming for strikes or just rolling for laughs\, this special is the perfect way to enjoy the holiday on the lanes. \nFebruary 13 | 11 AM – 3 PMPotomac Lanes \nSpecial Deal:Enjoy 1 hour of lane rental\, shoes\, and 1 large one-topping pizza for just $45!Limit 6 patrons per lane \nSpots fill up fast—grab your crew\, lace up those bowling shoes\, and let the good times roll!
URL:https://jbabfss.com/event/potomac-lanes-presidents-day-bowling-special/
LOCATION:Potomac Lanes
ATTACH;FMTTYPE=image/png:https://jbabfss.com/wp-content/uploads/2026/01/Potomac-Lanes-3-NOV-Digital.png
END:VEVENT
BEGIN:VEVENT
DTSTART;TZID=America/New_York:20260214T110000
DTEND;TZID=America/New_York:20260214T150000
DTSTAMP:20260423T150527
CREATED:20260113T141401Z
LAST-MODIFIED:20260113T141401Z
UID:10000056-1771066800-1771081200@jbabfss.com
SUMMARY:Valentine's Day Bowling
DESCRIPTION:Bring your sweetheart to Potomac Lanes for our Valentine’s Day bowling special! $50 per lane for 2 hours; includes shoe rental and a large 1 topping pizza!
URL:https://jbabfss.com/event/valentines-day-bowling/
LOCATION:Potomac Lanes Bowling Center\, McChord St\, Bldg. 1310\, washington\, DC\, 20032\, United States
ATTACH;FMTTYPE=image/png:https://jbabfss.com/wp-content/uploads/2026/01/Valentines-Bowling-Digital.png
END:VEVENT
BEGIN:VEVENT
DTSTART;TZID=America/New_York:20260214T170000
DTEND;TZID=America/New_York:20260214T203000
DTSTAMP:20260423T150527
CREATED:20260113T142757Z
LAST-MODIFIED:20260113T142757Z
UID:10000059-1771088400-1771101000@jbabfss.com
SUMMARY:Valentine's Day Dinner & Dancing
DESCRIPTION:Come join us for the Valentine’s Day Dinner with great food and a night of dancing!\n\nWe will kick off the night at 5pm with a romantic dinner of tossed salad\, shrimp cocktail\, loaded mashed potatoes and an entree choice of: New York Strip\, Chicken Breast or Salmon! You will also be able to enjoy decadent cheesecake with strawberry topping for dessert followed by champagne!\n\n\nReservations are required no later than 7 Feb.\nClick here to RSVP https://www.memberplanet.com/s/bollingclubs/valentines2026
URL:https://jbabfss.com/event/valentines-day-dinner-dancing/
LOCATION:Bolling Event Center\, 50 Theisen Street\, Washington\, DC\, 20032\, United States
ATTACH;FMTTYPE=image/jpeg:https://jbabfss.com/wp-content/uploads/2026/01/Valentines-Day-Dinner-.jpeg
END:VEVENT
BEGIN:VEVENT
DTSTART;TZID=America/New_York:20260221T090000
DTEND;TZID=America/New_York:20260221T120000
DTSTAMP:20260423T150527
CREATED:20260213T135437Z
LAST-MODIFIED:20260213T135437Z
UID:10000065-1771664400-1771675200@jbabfss.com
SUMMARY:Aerobathon
DESCRIPTION:💪🎉 Get Ready to Sweat at Our AEROBATHON! 🎉💪 \nJoin us on February 21 for an energizing Aerobathon packed with movement\, music\, and motivation! Whether you’re looking to stretch\, strengthen\, or dance it out — we’ve got something for everyone! \n🧘‍♀️ Yoga – Find your balance & reset🏋️ Power Pump – Build strength & power💃 Zumba – Dance your way to a great workout \n🔥 Come for one class or stay for them all!🔥 All fitness levels welcome🔥 Bring your water\, towel\, and a friend! \nLet’s move together and make it a day full of fun\, fitness\, and feel-good vibes! 💙
URL:https://jbabfss.com/event/aerobathon/
LOCATION:Aerobics Center\, 38 Brookley Ave\, Washington\, District of Columbia\, 22315\, United States
ATTACH;FMTTYPE=image/png:https://jbabfss.com/wp-content/uploads/2026/02/Aerobathon.png
END:VEVENT
BEGIN:VEVENT
DTSTART;TZID=America/New_York:20260221T103000
DTEND;TZID=America/New_York:20260221T133000
DTSTAMP:20260423T150527
CREATED:20260114T155142Z
LAST-MODIFIED:20260114T155142Z
UID:10000060-1771669800-1771680600@jbabfss.com
SUMMARY:2026 Racquetball Tournament
DESCRIPTION:Get ready to rally\, swing\, and smash your way to victory! \nJoin us for the 2026 Racquetball Tournament—a fast-paced showdown packed with competition\, energy\, and bragging rights! Whether you’re a seasoned player or just love the thrill of the game\, this tournament is your chance to step onto the court\, test your skills\, and have a blast. \nFebruary 21 | 10:30 AMFitness Center 1 \nThink you’ve got what it takes? Grab your racquet\, bring your A-game\, and don’t miss out—registration closes February 18! \n👉 Register now and let the games begin! quickscores.com/jbab or scan the QR code!
URL:https://jbabfss.com/event/2026-racquetball-tournament/
LOCATION:Fitness Center 1\, 130 McChord St\, Washington\, District of Columbia\, 200032
ATTACH;FMTTYPE=image/png:https://jbabfss.com/wp-content/uploads/2026/01/2026-Racquetball-Ball-Tournament-Digital.png
END:VEVENT
BEGIN:VEVENT
DTSTART;TZID=America/New_York:20260302T090000
DTEND;TZID=America/New_York:20260302T150000
DTSTAMP:20260423T150527
CREATED:20260220T150118Z
LAST-MODIFIED:20260220T150118Z
UID:10000066-1772442000-1772463600@jbabfss.com
SUMMARY:Read Across America
DESCRIPTION:🎩📚 Oh\, the fun you will know! Join the JBAB Library as we celebrate Dr. Seuss’ 122nd birthday with a whimsical day of stories\, smiles\, and surprises! Kids of all ages can enjoy lively book readings and take home fun Seuss-themed goodies. Don’t miss this magical Read Across America celebration—because reading is an adventure! ✨📖
URL:https://jbabfss.com/event/read-across-america/
LOCATION:JBAB Library\, 410 Tinker Street\, Washington\, District of Columbia\, 20032\, United States
ATTACH;FMTTYPE=image/png:https://jbabfss.com/wp-content/uploads/2026/02/Library-6.png
END:VEVENT
BEGIN:VEVENT
DTSTART;TZID=America/New_York:20260306T070000
DTEND;TZID=America/New_York:20260306T083000
DTSTAMP:20260423T150527
CREATED:20260220T154652Z
LAST-MODIFIED:20260220T154652Z
UID:10000070-1772780400-1772785800@jbabfss.com
SUMMARY:Spring Forward 5K Fun Run/Walk
DESCRIPTION:Spring into action at our Spring Forward 5K Fun Run/Walk! Join us bright and early as we kick off the season with a fun\, energizing run to celebrate longer days and warmer weather. Whether you run or walk\, it’s the perfect way to move\, smile\, and spring forward with the JBAB community!
URL:https://jbabfss.com/event/spring-forward-5k-fun-run-walk/
LOCATION:Aerobics Center\, 38 Brookley Ave\, Washington\, District of Columbia\, 22315\, United States
ATTACH;FMTTYPE=image/png:https://jbabfss.com/wp-content/uploads/2026/02/Mar-Run.png
END:VEVENT
BEGIN:VEVENT
DTSTART;TZID=America/New_York:20260306T150000
DTEND;TZID=America/New_York:20260306T230000
DTSTAMP:20260423T150527
CREATED:20260220T154747Z
LAST-MODIFIED:20260220T154747Z
UID:10000071-1772809200-1772838000@jbabfss.com
SUMMARY:First Friday + Trivia
DESCRIPTION:It’s your lucky night at Goose’s Landing! Kick off First Friday with Trivia Night\, then stay for great food\, a live DJ\, and dancing all night long. Bring your friends\, test your knowledge\, and celebrate the start of the weekend JBAB-style!
URL:https://jbabfss.com/event/first-friday-trivia/
LOCATION:Goose’s Landing\, 50 Theisen Street\, Washington\, District of Columbia\, 20032\, United States
ATTACH;FMTTYPE=image/png:https://jbabfss.com/wp-content/uploads/2026/02/First-Friday-Mar-1.png
END:VEVENT
BEGIN:VEVENT
DTSTART;TZID=America/New_York:20260313T150000
DTEND;TZID=America/New_York:20260313T200000
DTSTAMP:20260423T150527
CREATED:20260220T155041Z
LAST-MODIFIED:20260220T155041Z
UID:10000072-1773414000-1773432000@jbabfss.com
SUMMARY:St Patrick's Day Party at the Club
DESCRIPTION:Celebrate St. Patrick’s Day at Goose’s Landing! Join us for an afternoon and evening of Irish fun featuring festive music\, delicious Irish specials\, drinks\, and family-friendly games and crafts. Bring your friends and family\, wear your green\, and enjoy a shamrockin’ good time!
URL:https://jbabfss.com/event/st-patricks-day-party-at-the-club/
LOCATION:Goose’s Landing\, 50 Theisen Street\, Washington\, District of Columbia\, 20032\, United States
ATTACH;FMTTYPE=image/png:https://jbabfss.com/wp-content/uploads/2026/02/2026-St-Patrick-Day-Party-at-the-Club.png
END:VEVENT
BEGIN:VEVENT
DTSTART;TZID=America/New_York:20260314T093000
DTEND;TZID=America/New_York:20260314T123000
DTSTAMP:20260423T150527
CREATED:20260211T190000Z
LAST-MODIFIED:20260309T125126Z
UID:10000064-1773480600-1773491400@jbabfss.com
SUMMARY:Annual Easter Egstravaganza Egg Hunt at Giesboro Park!
DESCRIPTION:Hop on over and join us for our Annual Easter Eggstravaganza Egg Hunt on March 14 at Giesboro Park! 🐰✨ \nBring your baskets and get ready for a morning filled with eggs\, treats\, and springtime fun for the whole family. This is one event you won’t want to miss! \n📝 Register Here: https://forms.osi.apps.mil/pages/responsepage.aspx?id=jbExg4ct70ijX6yIGOv5tBHFOjUdLRxOlF2Ck-ymW6ZUQUNOR0dVSllHSVZHNUhYOVdTUjVNVVcwSy4u&route=shorturl \nSpots fill quickly\, so be sure to register by March 8 to secure your place! \nWe can’t wait to see you there for an egg-citing day of fun! 🥚💐
URL:https://jbabfss.com/event/annual-easter-egg-hunt-at-giesboro-park/
LOCATION:Giesboro Park\, MacDill Blvd\, Washington\, District of Columbia\, 20032\, United States
ATTACH;FMTTYPE=image/png:https://jbabfss.com/wp-content/uploads/2026/03/Eggstravaganza.png
END:VEVENT
BEGIN:VEVENT
DTSTART;TZID=America/New_York:20260317T110000
DTEND;TZID=America/New_York:20260317T150000
DTSTAMP:20260423T150527
CREATED:20260220T153320Z
LAST-MODIFIED:20260220T153320Z
UID:10000068-1773745200-1773759600@jbabfss.com
SUMMARY:St Patrick's Day Bowling Special
DESCRIPTION:Get lucky at Potomac Lanes this St. Patrick’s Day! Join us for a festive bowling special and take your shot at the green pin—bowl a strike and win a FREE game coupon for your next visit. Bring your friends\, wear your green\, and let the good times roll!
URL:https://jbabfss.com/event/st-patricks-day-bowling-special/
LOCATION:Potomac Lanes
ATTACH;FMTTYPE=image/png:https://jbabfss.com/wp-content/uploads/2026/02/Potomac-Lanes-1.png
END:VEVENT
BEGIN:VEVENT
DTSTART;TZID=America/New_York:20260317T170000
DTEND;TZID=America/New_York:20260317T200000
DTSTAMP:20260423T150527
CREATED:20260220T153103Z
LAST-MODIFIED:20260220T153118Z
UID:10000067-1773766800-1773777600@jbabfss.com
SUMMARY:2-for-1 Steak Night
DESCRIPTION:Date night just got better at Goose’s Landing! Join us for 2-for-1 Steak Night and enjoy a delicious evening featuring your choice of steak\, sides\, salad\, and more. Club Members get an unbeatable deal—perfect for a night out with someone special or friends. Come hungry!
URL:https://jbabfss.com/event/2-for-1-steak-night/
LOCATION:Goose’s Landing\, 50 Theisen Street\, Washington\, District of Columbia\, 20032\, United States
ATTACH;FMTTYPE=image/png:https://jbabfss.com/wp-content/uploads/2026/02/Lunch-at-the-Bolling-Club-15-March-Steak.png
END:VEVENT
BEGIN:VEVENT
DTSTART;TZID=America/New_York:20260321T073000
DTEND;TZID=America/New_York:20260321T170000
DTSTAMP:20260423T150527
CREATED:20260220T155640Z
LAST-MODIFIED:20260220T155640Z
UID:10000074-1774078200-1774112400@jbabfss.com
SUMMARY:Battle of the Bases: Flag Football Tournament
DESCRIPTION:Get ready for the ultimate Battle of the Bases! Join us for an action-packed Flag Football Tournament at JBAB featuring exciting competition\, giveaways\, food trucks\, and special appearances—including the Washington Commanders’ mascot! Come cheer on your team and be part of the fun! Register your team here: https://www.quickscores.com/Orgs/Forms.php?OrgDir=jbab&task=view&FormDefID=45191
URL:https://jbabfss.com/event/battle-of-the-bases-flag-football-tournament/
LOCATION:Outdoor Track\, 262 Luke Ave\, Washington\, District of Columbia\, 20032\, United States
ATTACH;FMTTYPE=image/png:https://jbabfss.com/wp-content/uploads/2026/02/BOTB-Flag-Football.png
END:VEVENT
BEGIN:VEVENT
DTSTART;TZID=America/New_York:20260327T180000
DTEND;TZID=America/New_York:20260327T200000
DTSTAMP:20260423T150527
CREATED:20260220T153502Z
LAST-MODIFIED:20260220T153502Z
UID:10000069-1774634400-1774641600@jbabfss.com
SUMMARY:Easter with EFMP
DESCRIPTION:Hop on over for a fun-filled Easter evening with EFMP! Families are invited to enjoy crafts\, games\, a movie\, and special photos with the Easter Bunny. It’s the perfect way to celebrate the season and connect with the JBAB community in a welcoming\, family-friendly environment!
URL:https://jbabfss.com/event/easter-with-efmp/
LOCATION:Military and Family Readiness\, 118 Brookley Ave SW Bldg 13\, Washington\, District of Columbia\, 220032\, United States
ATTACH;FMTTYPE=image/png:https://jbabfss.com/wp-content/uploads/2026/02/MFRC-EFMP-2.png
END:VEVENT
BEGIN:VEVENT
DTSTART;TZID=America/New_York:20260401T080000
DTEND;TZID=America/New_York:20260401T170000
DTSTAMP:20260423T150527
CREATED:20260331T150713Z
LAST-MODIFIED:20260331T150713Z
UID:10000087-1775030400-1775062800@jbabfss.com
SUMMARY:JBAB Community Garden @ Giesboro Park
DESCRIPTION:Get growing this season at the JBAB Community Garden at Giesboro Park! Reserve your plot and enjoy the opportunity to grow your own fresh vegetables and flowers in a shared outdoor space. With limited availability\, now’s the perfect time to secure your spot and connect with fellow gardening enthusiasts.
URL:https://jbabfss.com/event/jbab-community-garden-giesboro-park/
LOCATION:District of Columbia
ATTACH;FMTTYPE=image/png:https://jbabfss.com/wp-content/uploads/2026/03/ODR-10-2026-Comm-Garden.png
END:VEVENT
BEGIN:VEVENT
DTSTART;TZID=America/New_York:20260403T070000
DTEND;TZID=America/New_York:20260403T090000
DTSTAMP:20260423T150527
CREATED:20260331T151704Z
LAST-MODIFIED:20260331T151704Z
UID:10000090-1775199600-1775206800@jbabfss.com
SUMMARY:April "Fuels" Day 5K Fun Run/Walk
DESCRIPTION:Lace up your running shoes and join us for the April “Fools” Day 5K Fun Run/Walk! Whether you’re racing for time or just out for fun\, this lighthearted event is perfect for all fitness levels. Kick off your morning with a great workout\, enjoy the festive atmosphere\, and have some fun along the way!
URL:https://jbabfss.com/event/april-fuels-day-5k-fun-run-walk/
LOCATION:Aerobics Center\, 38 Brookley Ave\, Washington\, District of Columbia\, 22315\, United States
ATTACH;FMTTYPE=image/png:https://jbabfss.com/wp-content/uploads/2026/03/April-5K-Digital.png
END:VEVENT
BEGIN:VEVENT
DTSTART;TZID=America/New_York:20260403T150000
DTEND;TZID=America/New_York:20260403T200000
DTSTAMP:20260423T150527
CREATED:20260331T145125Z
LAST-MODIFIED:20260331T145152Z
UID:10000083-1775228400-1775246400@jbabfss.com
SUMMARY:First Friday + Trivia with First Command
DESCRIPTION:Kick off your weekend at First Friday at Goose’s Landing! Enjoy a lively evening featuring a live DJ\, dancing\, and a special First Friday menu. Start the night early with Trivia Night from 4–5:30 PM\, then stick around for great food\, music\, and fun from 7–11 PM. Whether you’re coming for the games\, the vibes\, or the food\, it’s the perfect way to unwind and connect with the community.
URL:https://jbabfss.com/event/first-friday-trivia-with-first-command/
LOCATION:District of Columbia
ATTACH;FMTTYPE=image/png:https://jbabfss.com/wp-content/uploads/2026/03/First-Frida-1-APR-2026.png
END:VEVENT
BEGIN:VEVENT
DTSTART;TZID=America/New_York:20260404T090000
DTEND;TZID=America/New_York:20260404T160000
DTSTAMP:20260423T150527
CREATED:20260331T144951Z
LAST-MODIFIED:20260331T144951Z
UID:10000082-1775293200-1775318400@jbabfss.com
SUMMARY:DC Cherry Blossom Tour- Outdoor Recreation
DESCRIPTION:Experience the beauty of DC’s cherry blossoms without the hassle! Join Outdoor Recreation for a convenient Cherry Blossom Tour with round-trip transportation from JBAB to the Tidal Basin. Enjoy free time to explore\, take photos\, and soak in the views during peak bloom. Space is limited\, so reserve your spot early at Outdoor Recreation!
URL:https://jbabfss.com/event/dc-cherry-blossom-tour-outdoor-recreation/
LOCATION:District of Columbia
ATTACH;FMTTYPE=image/png:https://jbabfss.com/wp-content/uploads/2026/03/APR-ODR-Cherry-Blossom-Trip-Digital.png
END:VEVENT
BEGIN:VEVENT
DTSTART;TZID=America/New_York:20260405T120000
DTEND;TZID=America/New_York:20260405T140000
DTSTAMP:20260423T150527
CREATED:20260220T155315Z
LAST-MODIFIED:20260331T152152Z
UID:10000073-1775390400-1775397600@jbabfss.com
SUMMARY:Easter Brunch
DESCRIPTION:Celebrate the season with a delicious Easter Brunch at the Capital Ballroom! Enjoy a festive spread featuring a carving station\, seafood selections\, breakfast favorites\, desserts\, and more—plus bottomless mimosas. Bring your family and friends for a relaxing and flavorful holiday experience—reserve your spot early as seating is limited: https://www.memberplanet.com/s/bollingclubs/easterbrunch2026
URL:https://jbabfss.com/event/easter-brunch-save-the-date/
LOCATION:Bolling Event Center\, 50 Theisen Street\, Washington\, DC\, 20032\, United States
ATTACH;FMTTYPE=image/png:https://jbabfss.com/wp-content/uploads/2026/02/Easter-Brunch-1-2025-Digital-Save-the-Date-1.png
END:VEVENT
BEGIN:VEVENT
DTSTART;TZID=America/New_York:20260408T110000
DTEND;TZID=America/New_York:20260408T120000
DTSTAMP:20260423T150527
CREATED:20260331T151942Z
LAST-MODIFIED:20260331T151942Z
UID:10000091-1775646000-1775649600@jbabfss.com
SUMMARY:JRIC Midday Madness Bingo with MFRC
DESCRIPTION:Take a break in your day and join us for Midday Madness Bingo at the JRIC! Enjoy a fun\, relaxed atmosphere with great company and the chance to win prizes. This free event is the perfect midday pick-me-up—don’t miss out!
URL:https://jbabfss.com/event/jric-midday-madness-bingo-with-mfrc/
LOCATION:Joint Recreation and Innovation Center\, 2770 Enterprise Way\, Bldg. 72\, Washington\, District of Columbia\, 20032\, United States
ATTACH;FMTTYPE=image/png:https://jbabfss.com/wp-content/uploads/2026/03/JRIC-5.png
END:VEVENT
BEGIN:VEVENT
DTSTART;TZID=America/New_York:20260409T093000
DTEND;TZID=America/New_York:20260409T110000
DTSTAMP:20260423T150527
CREATED:20260331T150409Z
LAST-MODIFIED:20260331T150409Z
UID:10000085-1775727000-1775732400@jbabfss.com
SUMMARY:MFRC Tiny Tots
DESCRIPTION:Join us for Tiny Tot Play Time\, a fun and engaging experience designed for children ages 1–3 and their caregivers! Enjoy free play\, sensory activities\, music\, and helpful parenting tips in a welcoming environment. It’s the perfect opportunity for little ones to learn and explore while caregivers connect and build community.
URL:https://jbabfss.com/event/mfrc-tiny-tots/
LOCATION:Military and Family Readiness\, 118 Brookley Ave SW Bldg 13\, Washington\, District of Columbia\, 220032\, United States
ATTACH;FMTTYPE=image/png:https://jbabfss.com/wp-content/uploads/2026/03/2026-Tiny-Tots-3-Tiny-Tot-Play-Time.png
END:VEVENT
BEGIN:VEVENT
DTSTART;TZID=America/New_York:20260410T180000
DTEND;TZID=America/New_York:20260410T200000
DTSTAMP:20260423T150527
CREATED:20260331T143806Z
LAST-MODIFIED:20260331T143806Z
UID:10000076-1775844000-1775851200@jbabfss.com
SUMMARY:MFRC Paint a Wooden Easter Egg or Bunny
DESCRIPTION:Get creative this spring at MFRC Paint Your Wooden Easter Egg or Rabbit event! Join us for a fun\, relaxed evening where you can design and decorate your own wooden keepsake while connecting with others in the community. \nAll supplies are provided—just bring your imagination. This free event is open to all\, and registration is encouraged to secure a painting time slot: https://www.timetap.com/appts/PyDk6TYQq2ie#/
URL:https://jbabfss.com/event/mfrc-paint-a-wooden-easter-egg-or-bunny/
LOCATION:Military and Family Readiness\, 118 Brookley Ave SW Bldg 13\, Washington\, District of Columbia\, 220032\, United States
ATTACH;FMTTYPE=image/png:https://jbabfss.com/wp-content/uploads/2026/03/MFRC-EFMP-12.png
END:VEVENT
END:VCALENDAR