BEGIN:VCALENDAR
VERSION:2.0
PRODID:-//Joint Base Anacostia-Bolling - ECPv6.15.20//NONSGML v1.0//EN
CALSCALE:GREGORIAN
METHOD:PUBLISH
X-WR-CALNAME:Joint Base Anacostia-Bolling
X-ORIGINAL-URL:https://jbabfss.com
X-WR-CALDESC:Events for Joint Base Anacostia-Bolling
REFRESH-INTERVAL;VALUE=DURATION:PT1H
X-Robots-Tag:noindex
X-PUBLISHED-TTL:PT1H
BEGIN:VTIMEZONE
TZID:America/New_York
BEGIN:DAYLIGHT
TZOFFSETFROM:-0500
TZOFFSETTO:-0400
TZNAME:EDT
DTSTART:20250309T070000
END:DAYLIGHT
BEGIN:STANDARD
TZOFFSETFROM:-0400
TZOFFSETTO:-0500
TZNAME:EST
DTSTART:20251102T060000
END:STANDARD
BEGIN:DAYLIGHT
TZOFFSETFROM:-0500
TZOFFSETTO:-0400
TZNAME:EDT
DTSTART:20260308T070000
END:DAYLIGHT
BEGIN:STANDARD
TZOFFSETFROM:-0400
TZOFFSETTO:-0500
TZNAME:EST
DTSTART:20261101T060000
END:STANDARD
BEGIN:DAYLIGHT
TZOFFSETFROM:-0500
TZOFFSETTO:-0400
TZNAME:EDT
DTSTART:20270314T070000
END:DAYLIGHT
BEGIN:STANDARD
TZOFFSETFROM:-0400
TZOFFSETTO:-0500
TZNAME:EST
DTSTART:20271107T060000
END:STANDARD
END:VTIMEZONE
BEGIN:VEVENT
DTSTART;TZID=America/New_York:20260502T100000
DTEND;TZID=America/New_York:20260502T190000
DTSTAMP:20260423T093826
CREATED:20260331T151423Z
LAST-MODIFIED:20260331T151423Z
UID:10000088-1777716000-1777748400@jbabfss.com
SUMMARY:ODR Fishing Trip
DESCRIPTION:Get hooked on adventure with our Let’s Go Fishing trip at Capital Cove Marina! Whether you’re a beginner or experienced angler\, enjoy a guided fishing experience with all gear provided. With limited spots and small group sizes\, it’s the perfect way to relax on the water and reel in a great time—sign up early to secure your spot!
URL:https://jbabfss.com/event/odr-fishing-trip-2/
LOCATION:Outdoor Recreation\, Giovannoli St SW\, Washington\, District of Columbia\, 20032
ATTACH;FMTTYPE=image/png:https://jbabfss.com/wp-content/uploads/2026/03/ODR-6-SEP-2026-Fishing-Trip-Digital.png
END:VEVENT
END:VCALENDAR