BEGIN:VCALENDAR
VERSION:2.0
PRODID:-//Joint Base Anacostia-Bolling - ECPv6.15.20//NONSGML v1.0//EN
CALSCALE:GREGORIAN
METHOD:PUBLISH
X-ORIGINAL-URL:https://jbabfss.com
X-WR-CALDESC:Events for Joint Base Anacostia-Bolling
REFRESH-INTERVAL;VALUE=DURATION:PT1H
X-Robots-Tag:noindex
X-PUBLISHED-TTL:PT1H
BEGIN:VTIMEZONE
TZID:America/New_York
BEGIN:DAYLIGHT
TZOFFSETFROM:-0500
TZOFFSETTO:-0400
TZNAME:EDT
DTSTART:20250309T070000
END:DAYLIGHT
BEGIN:STANDARD
TZOFFSETFROM:-0400
TZOFFSETTO:-0500
TZNAME:EST
DTSTART:20251102T060000
END:STANDARD
BEGIN:DAYLIGHT
TZOFFSETFROM:-0500
TZOFFSETTO:-0400
TZNAME:EDT
DTSTART:20260308T070000
END:DAYLIGHT
BEGIN:STANDARD
TZOFFSETFROM:-0400
TZOFFSETTO:-0500
TZNAME:EST
DTSTART:20261101T060000
END:STANDARD
BEGIN:DAYLIGHT
TZOFFSETFROM:-0500
TZOFFSETTO:-0400
TZNAME:EDT
DTSTART:20270314T070000
END:DAYLIGHT
BEGIN:STANDARD
TZOFFSETFROM:-0400
TZOFFSETTO:-0500
TZNAME:EST
DTSTART:20271107T060000
END:STANDARD
END:VTIMEZONE
BEGIN:VEVENT
DTSTART;TZID=America/New_York:20260422T100000
DTEND;TZID=America/New_York:20260422T120000
DTSTAMP:20260423T093757
CREATED:20260331T144605Z
LAST-MODIFIED:20260331T144605Z
UID:10000080-1776852000-1776859200@jbabfss.com
SUMMARY:JBAB Library Earth Day Celebration
DESCRIPTION:Celebrate Earth Day with us at the JBAB Library during our 19th Annual Earth Day Celebration! Join us on April 22 from 10 AM–12 PM for a fun and educational event featuring flower planting\, birdhouse activities\, and more. It’s a great opportunity for families to connect with nature\, get creative\, and learn about caring for our environment.
URL:https://jbabfss.com/event/jbab-library-earth-day-celebration/
LOCATION:JBAB Library\, 410 Tinker Street\, Washington\, District of Columbia\, 20032\, United States
ATTACH;FMTTYPE=image/png:https://jbabfss.com/wp-content/uploads/2026/03/Library-1-FEB-2026-Digital.png
END:VEVENT
END:VCALENDAR