BEGIN:VCALENDAR
VERSION:2.0
PRODID:-//Joint Base Anacostia-Bolling - ECPv6.15.20//NONSGML v1.0//EN
CALSCALE:GREGORIAN
METHOD:PUBLISH
X-WR-CALNAME:Joint Base Anacostia-Bolling
X-ORIGINAL-URL:https://jbabfss.com
X-WR-CALDESC:Events for Joint Base Anacostia-Bolling
REFRESH-INTERVAL;VALUE=DURATION:PT1H
X-Robots-Tag:noindex
X-PUBLISHED-TTL:PT1H
BEGIN:VTIMEZONE
TZID:America/Detroit
BEGIN:DAYLIGHT
TZOFFSETFROM:-0500
TZOFFSETTO:-0400
TZNAME:EDT
DTSTART:20240310T070000
END:DAYLIGHT
BEGIN:STANDARD
TZOFFSETFROM:-0400
TZOFFSETTO:-0500
TZNAME:EST
DTSTART:20241103T060000
END:STANDARD
BEGIN:DAYLIGHT
TZOFFSETFROM:-0500
TZOFFSETTO:-0400
TZNAME:EDT
DTSTART:20250309T070000
END:DAYLIGHT
BEGIN:STANDARD
TZOFFSETFROM:-0400
TZOFFSETTO:-0500
TZNAME:EST
DTSTART:20251102T060000
END:STANDARD
BEGIN:DAYLIGHT
TZOFFSETFROM:-0500
TZOFFSETTO:-0400
TZNAME:EDT
DTSTART:20260308T070000
END:DAYLIGHT
BEGIN:STANDARD
TZOFFSETFROM:-0400
TZOFFSETTO:-0500
TZNAME:EST
DTSTART:20261101T060000
END:STANDARD
END:VTIMEZONE
BEGIN:VEVENT
DTSTART;TZID=America/Detroit:20251206T160000
DTEND;TZID=America/Detroit:20251206T190000
DTSTAMP:20260423T164006
CREATED:20251203T172224Z
LAST-MODIFIED:20251203T172224Z
UID:10000042-1765036800-1765047600@jbabfss.com
SUMMARY:Winterfest & Holiday Market
DESCRIPTION:Join us for one of JBAB’s most magical evenings of the year!\nCelebrate the season with a cozy waterfront experience filled with twinkling lights\, festive music\, and holiday cheer for all ages.
URL:https://jbabfss.com/event/winterfest-holiday-market/
LOCATION:Slip Inn Waterfront Restaurant\, 2482 Arnold Ave\, washington\, DC\, 20032\, United States
END:VEVENT
END:VCALENDAR