BEGIN:VCALENDAR
VERSION:2.0
PRODID:-//Joint Base Anacostia-Bolling - ECPv6.15.20//NONSGML v1.0//EN
CALSCALE:GREGORIAN
METHOD:PUBLISH
X-ORIGINAL-URL:https://jbabfss.com
X-WR-CALDESC:Events for Joint Base Anacostia-Bolling
REFRESH-INTERVAL;VALUE=DURATION:PT1H
X-Robots-Tag:noindex
X-PUBLISHED-TTL:PT1H
BEGIN:VTIMEZONE
TZID:America/New_York
BEGIN:DAYLIGHT
TZOFFSETFROM:-0500
TZOFFSETTO:-0400
TZNAME:EDT
DTSTART:20240310T070000
END:DAYLIGHT
BEGIN:STANDARD
TZOFFSETFROM:-0400
TZOFFSETTO:-0500
TZNAME:EST
DTSTART:20241103T060000
END:STANDARD
BEGIN:DAYLIGHT
TZOFFSETFROM:-0500
TZOFFSETTO:-0400
TZNAME:EDT
DTSTART:20250309T070000
END:DAYLIGHT
BEGIN:STANDARD
TZOFFSETFROM:-0400
TZOFFSETTO:-0500
TZNAME:EST
DTSTART:20251102T060000
END:STANDARD
BEGIN:DAYLIGHT
TZOFFSETFROM:-0500
TZOFFSETTO:-0400
TZNAME:EDT
DTSTART:20260308T070000
END:DAYLIGHT
BEGIN:STANDARD
TZOFFSETFROM:-0400
TZOFFSETTO:-0500
TZNAME:EST
DTSTART:20261101T060000
END:STANDARD
END:VTIMEZONE
BEGIN:VEVENT
DTSTART;TZID=America/New_York:20250606T170000
DTEND;TZID=America/New_York:20250606T200000
DTSTAMP:20260424T032311
CREATED:20250603T173206Z
LAST-MODIFIED:20250603T173206Z
UID:10000009-1749229200-1749240000@jbabfss.com
SUMMARY:Slip Inn Deck Re-Opening!
DESCRIPTION:DECK YEAH! The good vibes are BACK at the Slip Inn!  Join us for an evening of epic fun\, finger-lickin’ smoked ribs\, and killer beats by DJ Chris! 🎶🍖 $24 Members | $28 Non-MembersBring your appetite\, your crew\, and your dancing shoes — it’s gonna be a vibe!
URL:https://jbabfss.com/event/slip-inn-deck-re-opening/
LOCATION:Slip Inn Waterfront Restaurant\, 2482 Arnold Ave\, washington\, DC\, 20032\, United States
ATTACH;FMTTYPE=image/png:https://jbabfss.com/wp-content/uploads/2025/06/Deck-Opening-Digital.png
END:VEVENT
END:VCALENDAR